BEGIN:VCALENDAR
VERSION:2.0
PRODID:-//jEvents 2.0 for Joomla//EN
CALSCALE:GREGORIAN
METHOD:PUBLISH
BEGIN:VTIMEZONE
TZID:Europe/Berlin
BEGIN:STANDARD
DTSTART:20231029T020000
RDATE:20240331T030000
TZOFFSETFROM:+0200
TZOFFSETTO:+0100
TZNAME:Europe/Berlin CET
END:STANDARD
BEGIN:STANDARD
DTSTART:20241027T020000
RDATE:20250330T030000
TZOFFSETFROM:+0200
TZOFFSETTO:+0100
TZNAME:Europe/Berlin CET
END:STANDARD
BEGIN:STANDARD
DTSTART:20251026T020000
RDATE:20260329T030000
TZOFFSETFROM:+0200
TZOFFSETTO:+0100
TZNAME:Europe/Berlin CET
END:STANDARD
BEGIN:STANDARD
DTSTART:20261025T020000
RDATE:20270328T030000
TZOFFSETFROM:+0200
TZOFFSETTO:+0100
TZNAME:Europe/Berlin CET
END:STANDARD
BEGIN:STANDARD
DTSTART:20271031T020000
RDATE:20280326T030000
TZOFFSETFROM:+0200
TZOFFSETTO:+0100
TZNAME:Europe/Berlin CET
END:STANDARD
BEGIN:DAYLIGHT
DTSTART:20230720T000000
RDATE:20231029T020000
TZOFFSETFROM:+0100
TZOFFSETTO:+0200
TZNAME:Europe/Berlin CEST
END:DAYLIGHT
BEGIN:DAYLIGHT
DTSTART:20240331T030000
RDATE:20241027T020000
TZOFFSETFROM:+0100
TZOFFSETTO:+0200
TZNAME:Europe/Berlin CEST
END:DAYLIGHT
BEGIN:DAYLIGHT
DTSTART:20250330T030000
RDATE:20251026T020000
TZOFFSETFROM:+0100
TZOFFSETTO:+0200
TZNAME:Europe/Berlin CEST
END:DAYLIGHT
BEGIN:DAYLIGHT
DTSTART:20260329T030000
RDATE:20261025T020000
TZOFFSETFROM:+0100
TZOFFSETTO:+0200
TZNAME:Europe/Berlin CEST
END:DAYLIGHT
BEGIN:DAYLIGHT
DTSTART:20270328T030000
RDATE:20271031T020000
TZOFFSETFROM:+0100
TZOFFSETTO:+0200
TZNAME:Europe/Berlin CEST
END:DAYLIGHT
END:VTIMEZONE
BEGIN:VEVENT
UID:8ef1704df714b58d49b212ebf35d7cd6
CATEGORIES:Bike - Marathon
CREATED:20240229T131219
SUMMARY:2MUCH4YOU
LOCATION:Start- und Zielbereich: Kammbaude Oybin/Hain
DESCRIPTION:2MUCH4YOU\nRestart 2024\n \nSo, Leute: Nach den notgedrungenen Absagen in 2
 020, 2021 und 2022 nehmen wir uns dieses Jahr Zeit, um das 2much4you weiter
 zuentwickeln und dann in 2024 neu durchstarten zu können. Der Termin ist be
 reits fix: 06.-07.07.2024. Bleibt dran!\nhttps://2much4you.de/restart-2024/
 \n
X-ALT-DESC;FMTTYPE=text/html:<p>2MUCH4YOU</p><p>Restart 2024</p><p> </p><p>So, Leute: Nach den notgedrun
 genen Absagen in 2020, 2021 und 2022 nehmen wir uns dieses Jahr Zeit, um da
 s 2much4you weiterzuentwickeln und dann in 2024 neu durchstarten zu können.
  Der Termin ist bereits fix: 06.-07.07.2024. Bleibt dran!</p><p>https://2mu
 ch4you.de/restart-2024/</p>
CONTACT:info@2much4you.de
X-EXTRAINFO:Art der Veranstaltung\n24h MTB-Rennen im Zittauer Gebirge\n12h MTB-Rennen i
 m Zittauer Gebirge (Rennen im Rennen)
DTSTAMP:20260419T164618
DTSTART;TZID=Europe/Berlin;VALUE=DATE:20240720
DTEND;TZID=Europe/Berlin;VALUE=DATE:20240721
SEQUENCE:0
TRANSP:OPAQUE
END:VEVENT
END:VCALENDAR