BEGIN:VCALENDAR
VERSION:2.0
PRODID:-//jEvents 2.0 for Joomla//EN
CALSCALE:GREGORIAN
METHOD:PUBLISH
BEGIN:VTIMEZONE
TZID:Europe/Berlin
BEGIN:STANDARD
DTSTART:20171029T020000
RDATE:20180325T030000
TZOFFSETFROM:+0200
TZOFFSETTO:+0100
TZNAME:Europe/Berlin CET
END:STANDARD
BEGIN:STANDARD
DTSTART:20181028T020000
RDATE:20190331T030000
TZOFFSETFROM:+0200
TZOFFSETTO:+0100
TZNAME:Europe/Berlin CET
END:STANDARD
BEGIN:STANDARD
DTSTART:20191027T020000
RDATE:20200329T030000
TZOFFSETFROM:+0200
TZOFFSETTO:+0100
TZNAME:Europe/Berlin CET
END:STANDARD
BEGIN:STANDARD
DTSTART:20201025T020000
RDATE:20210328T030000
TZOFFSETFROM:+0200
TZOFFSETTO:+0100
TZNAME:Europe/Berlin CET
END:STANDARD
BEGIN:STANDARD
DTSTART:20211031T020000
RDATE:20220327T030000
TZOFFSETFROM:+0200
TZOFFSETTO:+0100
TZNAME:Europe/Berlin CET
END:STANDARD
BEGIN:STANDARD
DTSTART:20221030T020000
RDATE:20230326T030000
TZOFFSETFROM:+0200
TZOFFSETTO:+0100
TZNAME:Europe/Berlin CET
END:STANDARD
BEGIN:STANDARD
DTSTART:20231029T020000
RDATE:20240331T030000
TZOFFSETFROM:+0200
TZOFFSETTO:+0100
TZNAME:Europe/Berlin CET
END:STANDARD
BEGIN:STANDARD
DTSTART:20241027T020000
RDATE:20250330T030000
TZOFFSETFROM:+0200
TZOFFSETTO:+0100
TZNAME:Europe/Berlin CET
END:STANDARD
BEGIN:STANDARD
DTSTART:20251026T020000
RDATE:20260329T030000
TZOFFSETFROM:+0200
TZOFFSETTO:+0100
TZNAME:Europe/Berlin CET
END:STANDARD
BEGIN:STANDARD
DTSTART:20261025T020000
RDATE:20270328T030000
TZOFFSETFROM:+0200
TZOFFSETTO:+0100
TZNAME:Europe/Berlin CET
END:STANDARD
BEGIN:STANDARD
DTSTART:20271031T020000
RDATE:20280326T030000
TZOFFSETFROM:+0200
TZOFFSETTO:+0100
TZNAME:Europe/Berlin CET
END:STANDARD
BEGIN:DAYLIGHT
DTSTART:20170914T000000
RDATE:20171029T020000
TZOFFSETFROM:+0100
TZOFFSETTO:+0200
TZNAME:Europe/Berlin CEST
END:DAYLIGHT
BEGIN:DAYLIGHT
DTSTART:20180325T030000
RDATE:20181028T020000
TZOFFSETFROM:+0100
TZOFFSETTO:+0200
TZNAME:Europe/Berlin CEST
END:DAYLIGHT
BEGIN:DAYLIGHT
DTSTART:20190331T030000
RDATE:20191027T020000
TZOFFSETFROM:+0100
TZOFFSETTO:+0200
TZNAME:Europe/Berlin CEST
END:DAYLIGHT
BEGIN:DAYLIGHT
DTSTART:20200329T030000
RDATE:20201025T020000
TZOFFSETFROM:+0100
TZOFFSETTO:+0200
TZNAME:Europe/Berlin CEST
END:DAYLIGHT
BEGIN:DAYLIGHT
DTSTART:20210328T030000
RDATE:20211031T020000
TZOFFSETFROM:+0100
TZOFFSETTO:+0200
TZNAME:Europe/Berlin CEST
END:DAYLIGHT
BEGIN:DAYLIGHT
DTSTART:20220327T030000
RDATE:20221030T020000
TZOFFSETFROM:+0100
TZOFFSETTO:+0200
TZNAME:Europe/Berlin CEST
END:DAYLIGHT
BEGIN:DAYLIGHT
DTSTART:20230326T030000
RDATE:20231029T020000
TZOFFSETFROM:+0100
TZOFFSETTO:+0200
TZNAME:Europe/Berlin CEST
END:DAYLIGHT
BEGIN:DAYLIGHT
DTSTART:20240331T030000
RDATE:20241027T020000
TZOFFSETFROM:+0100
TZOFFSETTO:+0200
TZNAME:Europe/Berlin CEST
END:DAYLIGHT
BEGIN:DAYLIGHT
DTSTART:20250330T030000
RDATE:20251026T020000
TZOFFSETFROM:+0100
TZOFFSETTO:+0200
TZNAME:Europe/Berlin CEST
END:DAYLIGHT
BEGIN:DAYLIGHT
DTSTART:20260329T030000
RDATE:20261025T020000
TZOFFSETFROM:+0100
TZOFFSETTO:+0200
TZNAME:Europe/Berlin CEST
END:DAYLIGHT
BEGIN:DAYLIGHT
DTSTART:20270328T030000
RDATE:20271031T020000
TZOFFSETFROM:+0100
TZOFFSETTO:+0200
TZNAME:Europe/Berlin CEST
END:DAYLIGHT
END:VTIMEZONE
BEGIN:VEVENT
UID:259097407505270534c0ac874dd5feee
CATEGORIES:Bikemarathons
CREATED:20180212T134649
SUMMARY:23. Drei- Talsperren- Marathon
LOCATION: Ludwig-Jahn-Straße 12 08309 Eibenstock 
DESCRIPTION:Die 50km-Rad Streckewird am meisten frequentiert und verläuft durch viel Wa
 ld, über die Staumauern der Talsperre Weiterswiese, dem Stausee Sosa und de
 r Talsperre Eibenstock. Nach dem Start ungefähr einen Kilometer auf Strasse
  durch Eibenstock, bevor es durch den Wald bergauf nach Carlsfeld geht. Dor
 t kurzzeitig etwas flacher und weiter bergauf Richtung Grenze zur Tschechei
  und zum höchsten Punkt des Wettkampfes dem Auersberg mit 1019 Metern. Dann
 ach sind rasante Abfahrten angesagt. Die Strecke führt uns dann zum tiefste
 n Punkt des Wettkampfes bevor es wieder bergauf zum Ziel in Eibenstock geht
 .DetailsStart:EibenstockZiel:Eibenstocküber:Carlsfeld, Talsperre Weiterswie
 se, Auersberg, Talsperre SosaLänge:50,4 kmHöhenmeter ➚:1140 mHöhenmeter ➘:1
 140 mSchwierigkeitsgrad:mittel, man sollte trainiert seingeeignet für:MTB T
 his event was imported from: 
X-ALT-DESC;FMTTYPE=text/html:Die 50km-Rad Streckewird am meisten frequentiert und verläuft durch viel Wa
 ld, über die Staumauern der Talsperre Weiterswiese, dem Stausee Sosa und de
 r Talsperre Eibenstock. Nach dem Start ungefähr einen Kilometer auf Strasse
  durch Eibenstock, bevor es durch den Wald bergauf nach Carlsfeld geht. Dor
 t kurzzeitig etwas flacher und weiter bergauf Richtung Grenze zur Tschechei
  und zum höchsten Punkt des Wettkampfes dem Auersberg mit 1019 Metern. Dann
 ach sind rasante Abfahrten angesagt. Die Strecke führt uns dann zum tiefste
 n Punkt des Wettkampfes bevor es wieder bergauf zum Ziel in Eibenstock geht
 .DetailsStart:EibenstockZiel:Eibenstocküber:Carlsfeld, Talsperre Weiterswie
 se, Auersberg, Talsperre SosaLänge:50,4 kmHöhenmeter ➚:1140 mHöhenmeter ➘:1
 140 mSchwierigkeitsgrad:mittel, man sollte trainiert seingeeignet für:MTB T
 his event was imported from: <a href="http://silvertrails.de/index.php/de-d
 e/component/jevents/eventdetail/22/23-drei-talsperren-marathon?Itemid5&amp
 ;tmpl=component">http://silvertrails.de/index.php/de-de/component/jevents/e
 ventdetail/22/23-drei-talsperren-marathon?Itemid5&amp;tmpl=component</a>
CONTACT:http://www.drei-talsperren-marathon.de/ (http://www.drei-talsperren-marathon.de/) , Marathonverein Eibenstoc
X-EXTRAINFO:http://www.drei-talsperren-marathon.de/anfahrt.html (http://www.drei-talspe
 rren-marathon.de/anfahrt.html)
DTSTAMP:20260422T143319
DTSTART;TZID=Europe/Berlin;VALUE=DATE:20180915
DTEND;TZID=Europe/Berlin;VALUE=DATE:20180916
SEQUENCE:0
TRANSP:OPAQUE
END:VEVENT
END:VCALENDAR