BEGIN:VCALENDAR
VERSION:2.0
PRODID:-//jEvents 2.0 for Joomla//EN
CALSCALE:GREGORIAN
METHOD:PUBLISH
BEGIN:VTIMEZONE
TZID:Europe/Berlin
BEGIN:STANDARD
DTSTART:20171029T020000
RDATE:20180325T030000
TZOFFSETFROM:+0200
TZOFFSETTO:+0100
TZNAME:Europe/Berlin CET
END:STANDARD
BEGIN:STANDARD
DTSTART:20181028T020000
RDATE:20190331T030000
TZOFFSETFROM:+0200
TZOFFSETTO:+0100
TZNAME:Europe/Berlin CET
END:STANDARD
BEGIN:STANDARD
DTSTART:20191027T020000
RDATE:20200329T030000
TZOFFSETFROM:+0200
TZOFFSETTO:+0100
TZNAME:Europe/Berlin CET
END:STANDARD
BEGIN:STANDARD
DTSTART:20201025T020000
RDATE:20210328T030000
TZOFFSETFROM:+0200
TZOFFSETTO:+0100
TZNAME:Europe/Berlin CET
END:STANDARD
BEGIN:STANDARD
DTSTART:20211031T020000
RDATE:20220327T030000
TZOFFSETFROM:+0200
TZOFFSETTO:+0100
TZNAME:Europe/Berlin CET
END:STANDARD
BEGIN:STANDARD
DTSTART:20221030T020000
RDATE:20230326T030000
TZOFFSETFROM:+0200
TZOFFSETTO:+0100
TZNAME:Europe/Berlin CET
END:STANDARD
BEGIN:STANDARD
DTSTART:20231029T020000
RDATE:20240331T030000
TZOFFSETFROM:+0200
TZOFFSETTO:+0100
TZNAME:Europe/Berlin CET
END:STANDARD
BEGIN:STANDARD
DTSTART:20241027T020000
RDATE:20250330T030000
TZOFFSETFROM:+0200
TZOFFSETTO:+0100
TZNAME:Europe/Berlin CET
END:STANDARD
BEGIN:STANDARD
DTSTART:20251026T020000
RDATE:20260329T030000
TZOFFSETFROM:+0200
TZOFFSETTO:+0100
TZNAME:Europe/Berlin CET
END:STANDARD
BEGIN:STANDARD
DTSTART:20261025T020000
RDATE:20270328T030000
TZOFFSETFROM:+0200
TZOFFSETTO:+0100
TZNAME:Europe/Berlin CET
END:STANDARD
BEGIN:STANDARD
DTSTART:20271031T020000
RDATE:20280326T030000
TZOFFSETFROM:+0200
TZOFFSETTO:+0100
TZNAME:Europe/Berlin CET
END:STANDARD
BEGIN:DAYLIGHT
DTSTART:20170908T000000
RDATE:20171029T020000
TZOFFSETFROM:+0100
TZOFFSETTO:+0200
TZNAME:Europe/Berlin CEST
END:DAYLIGHT
BEGIN:DAYLIGHT
DTSTART:20180325T030000
RDATE:20181028T020000
TZOFFSETFROM:+0100
TZOFFSETTO:+0200
TZNAME:Europe/Berlin CEST
END:DAYLIGHT
BEGIN:DAYLIGHT
DTSTART:20190331T030000
RDATE:20191027T020000
TZOFFSETFROM:+0100
TZOFFSETTO:+0200
TZNAME:Europe/Berlin CEST
END:DAYLIGHT
BEGIN:DAYLIGHT
DTSTART:20200329T030000
RDATE:20201025T020000
TZOFFSETFROM:+0100
TZOFFSETTO:+0200
TZNAME:Europe/Berlin CEST
END:DAYLIGHT
BEGIN:DAYLIGHT
DTSTART:20210328T030000
RDATE:20211031T020000
TZOFFSETFROM:+0100
TZOFFSETTO:+0200
TZNAME:Europe/Berlin CEST
END:DAYLIGHT
BEGIN:DAYLIGHT
DTSTART:20220327T030000
RDATE:20221030T020000
TZOFFSETFROM:+0100
TZOFFSETTO:+0200
TZNAME:Europe/Berlin CEST
END:DAYLIGHT
BEGIN:DAYLIGHT
DTSTART:20230326T030000
RDATE:20231029T020000
TZOFFSETFROM:+0100
TZOFFSETTO:+0200
TZNAME:Europe/Berlin CEST
END:DAYLIGHT
BEGIN:DAYLIGHT
DTSTART:20240331T030000
RDATE:20241027T020000
TZOFFSETFROM:+0100
TZOFFSETTO:+0200
TZNAME:Europe/Berlin CEST
END:DAYLIGHT
BEGIN:DAYLIGHT
DTSTART:20250330T030000
RDATE:20251026T020000
TZOFFSETFROM:+0100
TZOFFSETTO:+0200
TZNAME:Europe/Berlin CEST
END:DAYLIGHT
BEGIN:DAYLIGHT
DTSTART:20260329T030000
RDATE:20261025T020000
TZOFFSETFROM:+0100
TZOFFSETTO:+0200
TZNAME:Europe/Berlin CEST
END:DAYLIGHT
BEGIN:DAYLIGHT
DTSTART:20270328T030000
RDATE:20271031T020000
TZOFFSETFROM:+0100
TZOFFSETTO:+0200
TZNAME:Europe/Berlin CEST
END:DAYLIGHT
END:VTIMEZONE
BEGIN:VEVENT
UID:9bfb2d08fb221e55b1c72f097db7e01d
CATEGORIES:Bikemarathons
CREATED:20180212T134731
SUMMARY:Greifenstein Bike-Marathon 2018
LOCATION:09468 Geyer\, Badstraße Parkplatz an der Thumer Straße
DESCRIPTION:GBM 2.0\n\n\n Auch 2018 mit der Hammer Strecke!! Genehmigungen liegen vor\n
 \n\n \n\n\n- Termin 09.09.2018\n\n\n \nGBM 2.0 2018 This event was imported
  from: http://silvertrails.de/index.php/de-de/component/jevents/eventdetail
 /23/greifenstein-bike-marathon-2018?Itemid5&amp;tmpl=component
X-ALT-DESC;FMTTYPE=text/html:GBM 2.0<br/><br/><br/> Auch 2018 mit der Hammer Strecke!! Genehmigungen lie
 gen vor<br/><br/><br/> <br/><br/><br/>- Termin 09.09.2018<br/><br/><br/> <b
 r/>GBM 2.0 2018 This event was imported from: <a href="http://silvertrails.
 de/index.php/de-de/component/jevents/eventdetail/23/greifenstein-bike-marat
 hon-2018?Itemid5&amp;tmpl=component">http://silvertrails.de/index.php/de-d
 e/component/jevents/eventdetail/23/greifenstein-bike-marathon-2018?Itemid5
 &amp;tmpl=component</a>
CONTACT:http://www.der-sportmacher.de/gbm.htm (http://www.der-sportmacher.de/gbm.htm)
X-EXTRAINFO:https://l.facebook.com/l.php?u=https%3A%2F%2Fwww.youtube.com%2Fwatch%3Fv%3D
 LzoGtuDNZ4o&amp;h=ATNPwPNzmigh6mkkdE3E2AWN1LjwvIwXBj3HizsAANzcskIUOhV_37CAM
 So85jroEmVzItKCEQPgvY_5JLjsHlVD-LQQCa8ohKfhJduAg8m_0sR5AaV3Zd4UKWHGxuDsAHOJ
 0uHEaJiRf8w0OLse9Jykw-guYZ3OhSc2BnUG0g_G4YhtvqyDFGnoybEfMl2IXmdOLmm7UfBLWb-
 UHNsaG9mNP1EAmtJrnWjK4ZTwUqhoeddI5lD3P2sW1enxF1DnadvAer3t5h_kse4UUy-giHy_XW
 gTPzBCYs-UKCix
DTSTAMP:20260424T122200
DTSTART;TZID=Europe/Berlin;VALUE=DATE:20180909
DTEND;TZID=Europe/Berlin;VALUE=DATE:20180910
SEQUENCE:0
TRANSP:OPAQUE
END:VEVENT
END:VCALENDAR