BEGIN:VCALENDAR
VERSION:2.0
PRODID:-//jEvents 2.0 for Joomla//EN
CALSCALE:GREGORIAN
METHOD:PUBLISH
BEGIN:VTIMEZONE
TZID:Europe/Berlin
BEGIN:STANDARD
DTSTART:20171029T020000
RDATE:20180325T030000
TZOFFSETFROM:+0200
TZOFFSETTO:+0100
TZNAME:Europe/Berlin CET
END:STANDARD
BEGIN:STANDARD
DTSTART:20181028T020000
RDATE:20190331T030000
TZOFFSETFROM:+0200
TZOFFSETTO:+0100
TZNAME:Europe/Berlin CET
END:STANDARD
BEGIN:STANDARD
DTSTART:20191027T020000
RDATE:20200329T030000
TZOFFSETFROM:+0200
TZOFFSETTO:+0100
TZNAME:Europe/Berlin CET
END:STANDARD
BEGIN:STANDARD
DTSTART:20201025T020000
RDATE:20210328T030000
TZOFFSETFROM:+0200
TZOFFSETTO:+0100
TZNAME:Europe/Berlin CET
END:STANDARD
BEGIN:STANDARD
DTSTART:20211031T020000
RDATE:20220327T030000
TZOFFSETFROM:+0200
TZOFFSETTO:+0100
TZNAME:Europe/Berlin CET
END:STANDARD
BEGIN:STANDARD
DTSTART:20221030T020000
RDATE:20230326T030000
TZOFFSETFROM:+0200
TZOFFSETTO:+0100
TZNAME:Europe/Berlin CET
END:STANDARD
BEGIN:STANDARD
DTSTART:20231029T020000
RDATE:20240331T030000
TZOFFSETFROM:+0200
TZOFFSETTO:+0100
TZNAME:Europe/Berlin CET
END:STANDARD
BEGIN:STANDARD
DTSTART:20241027T020000
RDATE:20250330T030000
TZOFFSETFROM:+0200
TZOFFSETTO:+0100
TZNAME:Europe/Berlin CET
END:STANDARD
BEGIN:STANDARD
DTSTART:20251026T020000
RDATE:20260329T030000
TZOFFSETFROM:+0200
TZOFFSETTO:+0100
TZNAME:Europe/Berlin CET
END:STANDARD
BEGIN:STANDARD
DTSTART:20261025T020000
RDATE:20270328T030000
TZOFFSETFROM:+0200
TZOFFSETTO:+0100
TZNAME:Europe/Berlin CET
END:STANDARD
BEGIN:STANDARD
DTSTART:20271031T020000
RDATE:20280326T030000
TZOFFSETFROM:+0200
TZOFFSETTO:+0100
TZNAME:Europe/Berlin CET
END:STANDARD
BEGIN:DAYLIGHT
DTSTART:20170623T000000
RDATE:20171029T020000
TZOFFSETFROM:+0100
TZOFFSETTO:+0200
TZNAME:Europe/Berlin CEST
END:DAYLIGHT
BEGIN:DAYLIGHT
DTSTART:20180325T030000
RDATE:20181028T020000
TZOFFSETFROM:+0100
TZOFFSETTO:+0200
TZNAME:Europe/Berlin CEST
END:DAYLIGHT
BEGIN:DAYLIGHT
DTSTART:20190331T030000
RDATE:20191027T020000
TZOFFSETFROM:+0100
TZOFFSETTO:+0200
TZNAME:Europe/Berlin CEST
END:DAYLIGHT
BEGIN:DAYLIGHT
DTSTART:20200329T030000
RDATE:20201025T020000
TZOFFSETFROM:+0100
TZOFFSETTO:+0200
TZNAME:Europe/Berlin CEST
END:DAYLIGHT
BEGIN:DAYLIGHT
DTSTART:20210328T030000
RDATE:20211031T020000
TZOFFSETFROM:+0100
TZOFFSETTO:+0200
TZNAME:Europe/Berlin CEST
END:DAYLIGHT
BEGIN:DAYLIGHT
DTSTART:20220327T030000
RDATE:20221030T020000
TZOFFSETFROM:+0100
TZOFFSETTO:+0200
TZNAME:Europe/Berlin CEST
END:DAYLIGHT
BEGIN:DAYLIGHT
DTSTART:20230326T030000
RDATE:20231029T020000
TZOFFSETFROM:+0100
TZOFFSETTO:+0200
TZNAME:Europe/Berlin CEST
END:DAYLIGHT
BEGIN:DAYLIGHT
DTSTART:20240331T030000
RDATE:20241027T020000
TZOFFSETFROM:+0100
TZOFFSETTO:+0200
TZNAME:Europe/Berlin CEST
END:DAYLIGHT
BEGIN:DAYLIGHT
DTSTART:20250330T030000
RDATE:20251026T020000
TZOFFSETFROM:+0100
TZOFFSETTO:+0200
TZNAME:Europe/Berlin CEST
END:DAYLIGHT
BEGIN:DAYLIGHT
DTSTART:20260329T030000
RDATE:20261025T020000
TZOFFSETFROM:+0100
TZOFFSETTO:+0200
TZNAME:Europe/Berlin CEST
END:DAYLIGHT
BEGIN:DAYLIGHT
DTSTART:20270328T030000
RDATE:20271031T020000
TZOFFSETFROM:+0100
TZOFFSETTO:+0200
TZNAME:Europe/Berlin CEST
END:DAYLIGHT
END:VTIMEZONE
BEGIN:VEVENT
UID:84456534450e59502365fa0b264745da
CATEGORIES:Bike- Touren
CREATED:20180212T135548
SUMMARY:10. Zwönitztal-Radtour
LOCATION:Turnhallenweg 7\, 08297 Zwönitz
DESCRIPTION:Auf geht's  -- Jeder ist willkommen\n\n \nLiebe Teilnehmer, Freunde und För
 derer der Zwönitztal-Radtour\n\nViele Grüße aus Zwönitz\nEuer ORG.Team\n\nW
 ir bedanken uns bei allen Teilnehmern, Förderern und fleißigen Helfern.\n\n
 \nAuch nächstes Jahr erwarten Euch wieder interessante Strecken durch das E
 rzgebirge inmitten traumhafter Landschaften. Den Termin, sowie weitere Neui
 gkeiten erfahrt Ihr natürlich hier auf unserer Webseite.\n This event was i
 mported from: http://silvertrails.de/index.php/de-de/component/jevents/even
 tdetail/26/10-zwoenitztal-radtour?Itemid5&amp;tmpl=component
X-ALT-DESC;FMTTYPE=text/html:Auf geht's  -- Jeder ist willkommen<br/><br/> <br/>Liebe Teilnehmer, Freund
 e und Förderer der Zwönitztal-Radtour<br/><br/>Viele Grüße aus Zwönitz<br/>
 Euer ORG.Team<br/><br/>Wir bedanken uns bei allen Teilnehmern, Förderern un
 d fleißigen Helfern.<br/><br/><br/>Auch nächstes Jahr erwarten Euch wieder 
 interessante Strecken durch das Erzgebirge inmitten traumhafter Landschafte
 n. Den Termin, sowie weitere Neuigkeiten erfahrt Ihr natürlich hier auf uns
 erer Webseite.<br/> This event was imported from: <a href="http://silvertra
 ils.de/index.php/de-de/component/jevents/eventdetail/26/10-zwoenitztal-radt
 our?Itemid5&amp;tmpl=component">http://silvertrails.de/index.php/de-de/com
 ponent/jevents/eventdetail/26/10-zwoenitztal-radtour?Itemid5&amp;tmpl=comp
 onent</a>
CONTACT:info(at)zwoenitztal-radtour.de, Büro "Zwönitztal-Radtour" Hartensteiner Straße 8 – 10 08297 Zwönitz
X-EXTRAINFO:Auf geht's  -- Jeder ist willkommen
DTSTAMP:20260422T175757
DTSTART;TZID=Europe/Berlin;VALUE=DATE:20180624
DTEND;TZID=Europe/Berlin;VALUE=DATE:20180625
SEQUENCE:0
TRANSP:OPAQUE
END:VEVENT
END:VCALENDAR