BEGIN:VCALENDAR
VERSION:2.0
PRODID:-//jEvents 2.0 for Joomla//EN
CALSCALE:GREGORIAN
METHOD:PUBLISH
BEGIN:VTIMEZONE
TZID:Europe/Berlin
BEGIN:STANDARD
DTSTART:20171029T020000
RDATE:20180325T030000
TZOFFSETFROM:+0200
TZOFFSETTO:+0100
TZNAME:Europe/Berlin CET
END:STANDARD
BEGIN:STANDARD
DTSTART:20181028T020000
RDATE:20190331T030000
TZOFFSETFROM:+0200
TZOFFSETTO:+0100
TZNAME:Europe/Berlin CET
END:STANDARD
BEGIN:STANDARD
DTSTART:20191027T020000
RDATE:20200329T030000
TZOFFSETFROM:+0200
TZOFFSETTO:+0100
TZNAME:Europe/Berlin CET
END:STANDARD
BEGIN:STANDARD
DTSTART:20201025T020000
RDATE:20210328T030000
TZOFFSETFROM:+0200
TZOFFSETTO:+0100
TZNAME:Europe/Berlin CET
END:STANDARD
BEGIN:STANDARD
DTSTART:20211031T020000
RDATE:20220327T030000
TZOFFSETFROM:+0200
TZOFFSETTO:+0100
TZNAME:Europe/Berlin CET
END:STANDARD
BEGIN:STANDARD
DTSTART:20221030T020000
RDATE:20230326T030000
TZOFFSETFROM:+0200
TZOFFSETTO:+0100
TZNAME:Europe/Berlin CET
END:STANDARD
BEGIN:STANDARD
DTSTART:20231029T020000
RDATE:20240331T030000
TZOFFSETFROM:+0200
TZOFFSETTO:+0100
TZNAME:Europe/Berlin CET
END:STANDARD
BEGIN:STANDARD
DTSTART:20241027T020000
RDATE:20250330T030000
TZOFFSETFROM:+0200
TZOFFSETTO:+0100
TZNAME:Europe/Berlin CET
END:STANDARD
BEGIN:STANDARD
DTSTART:20251026T020000
RDATE:20260329T030000
TZOFFSETFROM:+0200
TZOFFSETTO:+0100
TZNAME:Europe/Berlin CET
END:STANDARD
BEGIN:STANDARD
DTSTART:20261025T020000
RDATE:20270328T030000
TZOFFSETFROM:+0200
TZOFFSETTO:+0100
TZNAME:Europe/Berlin CET
END:STANDARD
BEGIN:STANDARD
DTSTART:20271031T020000
RDATE:20280326T030000
TZOFFSETFROM:+0200
TZOFFSETTO:+0100
TZNAME:Europe/Berlin CET
END:STANDARD
BEGIN:DAYLIGHT
DTSTART:20170810T000000
RDATE:20171029T020000
TZOFFSETFROM:+0100
TZOFFSETTO:+0200
TZNAME:Europe/Berlin CEST
END:DAYLIGHT
BEGIN:DAYLIGHT
DTSTART:20180325T030000
RDATE:20181028T020000
TZOFFSETFROM:+0100
TZOFFSETTO:+0200
TZNAME:Europe/Berlin CEST
END:DAYLIGHT
BEGIN:DAYLIGHT
DTSTART:20190331T030000
RDATE:20191027T020000
TZOFFSETFROM:+0100
TZOFFSETTO:+0200
TZNAME:Europe/Berlin CEST
END:DAYLIGHT
BEGIN:DAYLIGHT
DTSTART:20200329T030000
RDATE:20201025T020000
TZOFFSETFROM:+0100
TZOFFSETTO:+0200
TZNAME:Europe/Berlin CEST
END:DAYLIGHT
BEGIN:DAYLIGHT
DTSTART:20210328T030000
RDATE:20211031T020000
TZOFFSETFROM:+0100
TZOFFSETTO:+0200
TZNAME:Europe/Berlin CEST
END:DAYLIGHT
BEGIN:DAYLIGHT
DTSTART:20220327T030000
RDATE:20221030T020000
TZOFFSETFROM:+0100
TZOFFSETTO:+0200
TZNAME:Europe/Berlin CEST
END:DAYLIGHT
BEGIN:DAYLIGHT
DTSTART:20230326T030000
RDATE:20231029T020000
TZOFFSETFROM:+0100
TZOFFSETTO:+0200
TZNAME:Europe/Berlin CEST
END:DAYLIGHT
BEGIN:DAYLIGHT
DTSTART:20240331T030000
RDATE:20241027T020000
TZOFFSETFROM:+0100
TZOFFSETTO:+0200
TZNAME:Europe/Berlin CEST
END:DAYLIGHT
BEGIN:DAYLIGHT
DTSTART:20250330T030000
RDATE:20251026T020000
TZOFFSETFROM:+0100
TZOFFSETTO:+0200
TZNAME:Europe/Berlin CEST
END:DAYLIGHT
BEGIN:DAYLIGHT
DTSTART:20260329T030000
RDATE:20261025T020000
TZOFFSETFROM:+0100
TZOFFSETTO:+0200
TZNAME:Europe/Berlin CEST
END:DAYLIGHT
BEGIN:DAYLIGHT
DTSTART:20270328T030000
RDATE:20271031T020000
TZOFFSETFROM:+0100
TZOFFSETTO:+0200
TZNAME:Europe/Berlin CEST
END:DAYLIGHT
END:VTIMEZONE
BEGIN:VEVENT
UID:1287211e32d3a413fddb7bf9771135b0
CATEGORIES:Bike- Rennen des BDR
CREATED:20180810T133344
SUMMARY:Deutsche Meisterschaft MTB-ENDURO 2018
LOCATION:Trailcenter Rabenberg\, Breitenbrunn
DESCRIPTION:\n\nNach zwei Meisterschaften in Schöneck steht diesmal das TRAILCENTER RAB
 ENBERG als Co-Ausrichter und Austragungsort zur Seite. \n\n\n \n\n\n \nWas?
     5. Deutsche Meisterschaft MTB-EnduroWo?      Trailcenter Rabenberg, Bre
 itenbrunnWann?  11. - 12. August 2018\n\n\n \n This event was imported from
 : http://silvertrails.de/index.php/de-de/component/jevents/eventdetail/44/d
 eutsche-meisterschaft-mtb-enduro-2018?Itemid1&amp;tmpl=component\n
X-ALT-DESC;FMTTYPE=text/html:<p><br /><br />Nach zwei Meisterschaften in Schöneck steht diesmal das TRAI
 LCENTER RABENBERG als Co-Ausrichter und Austragungsort zur Seite. <br /><br
  /><br /> <br /><br /><br /> <br />Was?    5. Deutsche Meisterschaft MTB-En
 duroWo?      Trailcenter Rabenberg, BreitenbrunnWann?  11. - 12. August 201
 8<br /><br /><br /> <br /> This event was imported from: <a href="http://si
 lvertrails.de/index.php/de-de/component/jevents/eventdetail/44/deutsche-mei
 sterschaft-mtb-enduro-2018?Itemid1&amp;tmpl=component">http://silvertrails
 .de/index.php/de-de/component/jevents/eventdetail/44/deutsche-meisterschaft
 -mtb-enduro-2018?Itemid1&amp;tmpl=component</a></p>
CONTACT:Vogtland Bike e.V.  Hauptstraße 2 08261 Schöneck / Vogtland
X-EXTRAINFO:Die Titelkämpfe werden am 11. und 12. August 2018 ausgetragen, eingerahmt v
 om ersten Kids-Enduro, der internationalen Hobby-DM sowie einer ausgelassen
 en DM-Party im Anschluss an den Prolog am Samstag. 
DTSTAMP:20260424T105235
DTSTART;TZID=Europe/Berlin;VALUE=DATE:20180811
DTEND;TZID=Europe/Berlin;VALUE=DATE:20180813
SEQUENCE:0
TRANSP:OPAQUE
END:VEVENT
END:VCALENDAR