BEGIN:VCALENDAR
VERSION:2.0
PRODID:-//jEvents 2.0 for Joomla//EN
CALSCALE:GREGORIAN
METHOD:PUBLISH
BEGIN:VTIMEZONE
TZID:Europe/Berlin
BEGIN:STANDARD
DTSTART:20181028T020000
RDATE:20190331T030000
TZOFFSETFROM:+0200
TZOFFSETTO:+0100
TZNAME:Europe/Berlin CET
END:STANDARD
BEGIN:STANDARD
DTSTART:20191027T020000
RDATE:20200329T030000
TZOFFSETFROM:+0200
TZOFFSETTO:+0100
TZNAME:Europe/Berlin CET
END:STANDARD
BEGIN:STANDARD
DTSTART:20201025T020000
RDATE:20210328T030000
TZOFFSETFROM:+0200
TZOFFSETTO:+0100
TZNAME:Europe/Berlin CET
END:STANDARD
BEGIN:STANDARD
DTSTART:20211031T020000
RDATE:20220327T030000
TZOFFSETFROM:+0200
TZOFFSETTO:+0100
TZNAME:Europe/Berlin CET
END:STANDARD
BEGIN:STANDARD
DTSTART:20221030T020000
RDATE:20230326T030000
TZOFFSETFROM:+0200
TZOFFSETTO:+0100
TZNAME:Europe/Berlin CET
END:STANDARD
BEGIN:STANDARD
DTSTART:20231029T020000
RDATE:20240331T030000
TZOFFSETFROM:+0200
TZOFFSETTO:+0100
TZNAME:Europe/Berlin CET
END:STANDARD
BEGIN:STANDARD
DTSTART:20241027T020000
RDATE:20250330T030000
TZOFFSETFROM:+0200
TZOFFSETTO:+0100
TZNAME:Europe/Berlin CET
END:STANDARD
BEGIN:STANDARD
DTSTART:20251026T020000
RDATE:20260329T030000
TZOFFSETFROM:+0200
TZOFFSETTO:+0100
TZNAME:Europe/Berlin CET
END:STANDARD
BEGIN:STANDARD
DTSTART:20261025T020000
RDATE:20270328T030000
TZOFFSETFROM:+0200
TZOFFSETTO:+0100
TZNAME:Europe/Berlin CET
END:STANDARD
BEGIN:STANDARD
DTSTART:20271031T020000
RDATE:20280326T030000
TZOFFSETFROM:+0200
TZOFFSETTO:+0100
TZNAME:Europe/Berlin CET
END:STANDARD
BEGIN:DAYLIGHT
DTSTART:20180803T090000
RDATE:20181028T020000
TZOFFSETFROM:+0100
TZOFFSETTO:+0200
TZNAME:Europe/Berlin CEST
END:DAYLIGHT
BEGIN:DAYLIGHT
DTSTART:20190331T030000
RDATE:20191027T020000
TZOFFSETFROM:+0100
TZOFFSETTO:+0200
TZNAME:Europe/Berlin CEST
END:DAYLIGHT
BEGIN:DAYLIGHT
DTSTART:20200329T030000
RDATE:20201025T020000
TZOFFSETFROM:+0100
TZOFFSETTO:+0200
TZNAME:Europe/Berlin CEST
END:DAYLIGHT
BEGIN:DAYLIGHT
DTSTART:20210328T030000
RDATE:20211031T020000
TZOFFSETFROM:+0100
TZOFFSETTO:+0200
TZNAME:Europe/Berlin CEST
END:DAYLIGHT
BEGIN:DAYLIGHT
DTSTART:20220327T030000
RDATE:20221030T020000
TZOFFSETFROM:+0100
TZOFFSETTO:+0200
TZNAME:Europe/Berlin CEST
END:DAYLIGHT
BEGIN:DAYLIGHT
DTSTART:20230326T030000
RDATE:20231029T020000
TZOFFSETFROM:+0100
TZOFFSETTO:+0200
TZNAME:Europe/Berlin CEST
END:DAYLIGHT
BEGIN:DAYLIGHT
DTSTART:20240331T030000
RDATE:20241027T020000
TZOFFSETFROM:+0100
TZOFFSETTO:+0200
TZNAME:Europe/Berlin CEST
END:DAYLIGHT
BEGIN:DAYLIGHT
DTSTART:20250330T030000
RDATE:20251026T020000
TZOFFSETFROM:+0100
TZOFFSETTO:+0200
TZNAME:Europe/Berlin CEST
END:DAYLIGHT
BEGIN:DAYLIGHT
DTSTART:20260329T030000
RDATE:20261025T020000
TZOFFSETFROM:+0100
TZOFFSETTO:+0200
TZNAME:Europe/Berlin CEST
END:DAYLIGHT
BEGIN:DAYLIGHT
DTSTART:20270328T030000
RDATE:20271031T020000
TZOFFSETFROM:+0100
TZOFFSETTO:+0200
TZNAME:Europe/Berlin CEST
END:DAYLIGHT
END:VTIMEZONE
BEGIN:VEVENT
UID:8240307c58260edfd421dc9524ae7189
CATEGORIES:Bikemarathons
CREATED:20181003T222145
SUMMARY:EBM 2019, das Rennen
LOCATION:Ort Seiffen\, Erzgebirge
DESCRIPTION:Ort Seiffen, ErzgebirgeEBM - Bronze = 1 Runde 40 km (Das Rennen der Bauern)
  \n offen für: Junioren / Damen / Herren / Masters 1+2+3+4 = AK Wertung\n \
 n EBM - Silber = 70 km = 2 Runden a 29 km + ca. 12 km Einführung (Das Renne
 n der Prinzen)\n offen für: Junioren / Damen / Herren / Masters 1+2+3 = AK 
 Wertung\n \n EBM - Gold = 100 km = 3 Runden a 29 km + ca. 12 km Einführung 
 (Das Rennen der Könige)\n offen für: Damen / Herren / Masters 1+2+3 = AK We
 rtung\n \n EBM - Team-Fight = 100 km = 3 Runden a 29 km + ca. 12 km Einführ
 ung für den Startfahrer (Gedritteltes Leid ist dreifache Freude!) \n offen 
 für: 3er Staffeln ab Jugend aufwärts = ohne AK Wertung This event was impor
 ted from: http://2nd.silvertrails.de/index.php/de-de/component/jevents/even
 tdetail/49/ebm-2019-das-rennen?Itemid1&amp;tmpl=component\n
X-ALT-DESC;FMTTYPE=text/html:<p>Ort Seiffen, ErzgebirgeEBM - Bronze = 1 Runde 40 km (Das Rennen der Baue
 rn) <br /> offen für: Junioren / Damen / Herren / Masters 1+2+3+4 = AK Wert
 ung<br /> <br /> EBM - Silber = 70 km = 2 Runden a 29 km + ca. 12 km Einfüh
 rung (Das Rennen der Prinzen)<br /> offen für: Junioren / Damen / Herren / 
 Masters 1+2+3 = AK Wertung<br /> <br /> EBM - Gold = 100 km = 3 Runden a 29
  km + ca. 12 km Einführung (Das Rennen der Könige)<br /> offen für: Damen /
  Herren / Masters 1+2+3 = AK Wertung<br /> <br /> EBM - Team-Fight = 100 km
  = 3 Runden a 29 km + ca. 12 km Einführung für den Startfahrer (Gedrittelte
 s Leid ist dreifache Freude!) <br /> offen für: 3er Staffeln ab Jugend aufw
 ärts = ohne AK Wertung This event was imported from: <a href="http://2nd.si
 lvertrails.de/index.php/de-de/component/jevents/eventdetail/49/ebm-2019-das
 -rennen?Itemid1&amp;tmpl=component">http://2nd.silvertrails.de/index.php/d
 e-de/component/jevents/eventdetail/49/ebm-2019-das-rennen?Itemid1&amp;tmpl
 =component</a></p>
CONTACT:Diese E-Mail-Adresse ist vor Spambots geschützt! Zur Anzeige muss JavaScript eingeschaltet sein!			document.getElementBy
X-EXTRAINFO:"Raceday"\n\n\n9:00 Uhr EBM GOLD / SILBER / BRONZE / TEAM FIGHT - Massensta
 rt\n
DTSTAMP:20260422T162345
DTSTART;TZID=Europe/Berlin:20190804T090000
SEQUENCE:0
TRANSP:OPAQUE
END:VEVENT
END:VCALENDAR