BEGIN:VCALENDAR
VERSION:2.0
PRODID:-//jEvents 2.0 for Joomla//EN
CALSCALE:GREGORIAN
METHOD:PUBLISH
BEGIN:VTIMEZONE
TZID:Europe/Berlin
BEGIN:STANDARD
DTSTART:20181028T020000
RDATE:20190331T030000
TZOFFSETFROM:+0200
TZOFFSETTO:+0100
TZNAME:Europe/Berlin CET
END:STANDARD
BEGIN:STANDARD
DTSTART:20191027T020000
RDATE:20200329T030000
TZOFFSETFROM:+0200
TZOFFSETTO:+0100
TZNAME:Europe/Berlin CET
END:STANDARD
BEGIN:STANDARD
DTSTART:20201025T020000
RDATE:20210328T030000
TZOFFSETFROM:+0200
TZOFFSETTO:+0100
TZNAME:Europe/Berlin CET
END:STANDARD
BEGIN:STANDARD
DTSTART:20211031T020000
RDATE:20220327T030000
TZOFFSETFROM:+0200
TZOFFSETTO:+0100
TZNAME:Europe/Berlin CET
END:STANDARD
BEGIN:STANDARD
DTSTART:20221030T020000
RDATE:20230326T030000
TZOFFSETFROM:+0200
TZOFFSETTO:+0100
TZNAME:Europe/Berlin CET
END:STANDARD
BEGIN:STANDARD
DTSTART:20231029T020000
RDATE:20240331T030000
TZOFFSETFROM:+0200
TZOFFSETTO:+0100
TZNAME:Europe/Berlin CET
END:STANDARD
BEGIN:STANDARD
DTSTART:20241027T020000
RDATE:20250330T030000
TZOFFSETFROM:+0200
TZOFFSETTO:+0100
TZNAME:Europe/Berlin CET
END:STANDARD
BEGIN:STANDARD
DTSTART:20251026T020000
RDATE:20260329T030000
TZOFFSETFROM:+0200
TZOFFSETTO:+0100
TZNAME:Europe/Berlin CET
END:STANDARD
BEGIN:STANDARD
DTSTART:20261025T020000
RDATE:20270328T030000
TZOFFSETFROM:+0200
TZOFFSETTO:+0100
TZNAME:Europe/Berlin CET
END:STANDARD
BEGIN:STANDARD
DTSTART:20271031T020000
RDATE:20280326T030000
TZOFFSETFROM:+0200
TZOFFSETTO:+0100
TZNAME:Europe/Berlin CET
END:STANDARD
BEGIN:DAYLIGHT
DTSTART:20180705T120000
RDATE:20181028T020000
TZOFFSETFROM:+0100
TZOFFSETTO:+0200
TZNAME:Europe/Berlin CEST
END:DAYLIGHT
BEGIN:DAYLIGHT
DTSTART:20190331T030000
RDATE:20191027T020000
TZOFFSETFROM:+0100
TZOFFSETTO:+0200
TZNAME:Europe/Berlin CEST
END:DAYLIGHT
BEGIN:DAYLIGHT
DTSTART:20200329T030000
RDATE:20201025T020000
TZOFFSETFROM:+0100
TZOFFSETTO:+0200
TZNAME:Europe/Berlin CEST
END:DAYLIGHT
BEGIN:DAYLIGHT
DTSTART:20210328T030000
RDATE:20211031T020000
TZOFFSETFROM:+0100
TZOFFSETTO:+0200
TZNAME:Europe/Berlin CEST
END:DAYLIGHT
BEGIN:DAYLIGHT
DTSTART:20220327T030000
RDATE:20221030T020000
TZOFFSETFROM:+0100
TZOFFSETTO:+0200
TZNAME:Europe/Berlin CEST
END:DAYLIGHT
BEGIN:DAYLIGHT
DTSTART:20230326T030000
RDATE:20231029T020000
TZOFFSETFROM:+0100
TZOFFSETTO:+0200
TZNAME:Europe/Berlin CEST
END:DAYLIGHT
BEGIN:DAYLIGHT
DTSTART:20240331T030000
RDATE:20241027T020000
TZOFFSETFROM:+0100
TZOFFSETTO:+0200
TZNAME:Europe/Berlin CEST
END:DAYLIGHT
BEGIN:DAYLIGHT
DTSTART:20250330T030000
RDATE:20251026T020000
TZOFFSETFROM:+0100
TZOFFSETTO:+0200
TZNAME:Europe/Berlin CEST
END:DAYLIGHT
BEGIN:DAYLIGHT
DTSTART:20260329T030000
RDATE:20261025T020000
TZOFFSETFROM:+0100
TZOFFSETTO:+0200
TZNAME:Europe/Berlin CEST
END:DAYLIGHT
BEGIN:DAYLIGHT
DTSTART:20270328T030000
RDATE:20271031T020000
TZOFFSETFROM:+0100
TZOFFSETTO:+0200
TZNAME:Europe/Berlin CEST
END:DAYLIGHT
END:VTIMEZONE
BEGIN:VEVENT
UID:754aaf0474d386c2dda98700eeeb5c77
CATEGORIES:Bikemarathons
CREATED:20190109T201119
SUMMARY:12. 24h MTB-Rennen im Zittauer Gebirge
LOCATION:Kurort Oybin/Hain - Zittauer Gebirge\, Start- und Zielbereich: Kammbaude Oy
 bin/Hain 	 
DESCRIPTION:Kategorien:\n\nPreise bis 31.01.2019\nEinzelstarter [ m | w ]65 Euro2-er Te
 am [ m | w | mixed ] 130 Euro4-er Team [ m | w | mixed ]260 Euro8-er Team [
  m | w | mixed ] 520 Euro\n\n \n\n\nPreise ab 01.02.2019: \nEinzelstarter [
  m | w ]70 Euro2-er Team [ m | w | mixed ] 140 Euro4-er Team [ m | w | mixe
 d ]280 Euro8-er Team [ m | w | mixed ] 560 Euro\n\n\n\n4er Mixed: mindesten
 s 1 Frau/ bzw. 1 Mann \n8er Mixed: mindestens 3 Frauen/ bzw. 3 Männer\n Thi
 s event was imported from: http://2nd.silvertrails.de/index.php/de-de/compo
 nent/jevents/eventdetail/55/12-24h-mtb-rennen-im-zittauer-gebirge?Itemid1&a
 mp;tmpl=component
X-ALT-DESC;FMTTYPE=text/html:Kategorien:<br/><br/>Preise bis 31.01.2019<br/>Einzelstarter [ m | w ]65 Eu
 ro2-er Team [ m | w | mixed ] 130 Euro4-er Team [ m | w | mixed ]260 Euro8-
 er Team [ m | w | mixed ] 520 Euro<br/><br/> <br/><br/><br/>Preise ab 01.02
 .2019: <br/>Einzelstarter [ m | w ]70 Euro2-er Team [ m | w | mixed ] 140 E
 uro4-er Team [ m | w | mixed ]280 Euro8-er Team [ m | w | mixed ] 560 Euro<
 br/><br/><br/><br/>4er Mixed: mindestens 1 Frau/ bzw. 1 Mann <br/>8er Mixed
 : mindestens 3 Frauen/ bzw. 3 Männer<br/> This event was imported from: <a 
 href="http://2nd.silvertrails.de/index.php/de-de/component/jevents/eventdet
 ail/55/12-24h-mtb-rennen-im-zittauer-gebirge?Itemid1&amp;tmpl=component">h
 ttp://2nd.silvertrails.de/index.php/de-de/component/jevents/eventdetail/55/
 12-24h-mtb-rennen-im-zittauer-gebirge?Itemid1&amp;tmpl=component</a>
CONTACT:2much4you , www.2much4you.de
X-EXTRAINFO:Unterkunft:\n\nZeltplatz, 50 m von der Wechselzone entfernt\n\nAm Veranstal
 tungstag ist pro Team ein Unkostenbeitrag von 5 Euro für den Stellplatz zu 
 entrichten\n\nUnterkunft auch in der Pension "Kammbaude" möglich, die Preis
 liste findet ihr unter: www.kammbaude.de
DTSTAMP:20260422T150247
DTSTART;TZID=Europe/Berlin:20190706T120000
DTEND;TZID=Europe/Berlin:20190707T120000
SEQUENCE:0
TRANSP:OPAQUE
END:VEVENT
END:VCALENDAR