BEGIN:VCALENDAR
VERSION:2.0
PRODID:-//jEvents 2.0 for Joomla//EN
CALSCALE:GREGORIAN
METHOD:PUBLISH
BEGIN:VTIMEZONE
TZID:Europe/Berlin
BEGIN:STANDARD
DTSTART:20181028T020000
RDATE:20190331T030000
TZOFFSETFROM:+0200
TZOFFSETTO:+0100
TZNAME:Europe/Berlin CET
END:STANDARD
BEGIN:STANDARD
DTSTART:20191027T020000
RDATE:20200329T030000
TZOFFSETFROM:+0200
TZOFFSETTO:+0100
TZNAME:Europe/Berlin CET
END:STANDARD
BEGIN:STANDARD
DTSTART:20201025T020000
RDATE:20210328T030000
TZOFFSETFROM:+0200
TZOFFSETTO:+0100
TZNAME:Europe/Berlin CET
END:STANDARD
BEGIN:STANDARD
DTSTART:20211031T020000
RDATE:20220327T030000
TZOFFSETFROM:+0200
TZOFFSETTO:+0100
TZNAME:Europe/Berlin CET
END:STANDARD
BEGIN:STANDARD
DTSTART:20221030T020000
RDATE:20230326T030000
TZOFFSETFROM:+0200
TZOFFSETTO:+0100
TZNAME:Europe/Berlin CET
END:STANDARD
BEGIN:STANDARD
DTSTART:20231029T020000
RDATE:20240331T030000
TZOFFSETFROM:+0200
TZOFFSETTO:+0100
TZNAME:Europe/Berlin CET
END:STANDARD
BEGIN:STANDARD
DTSTART:20241027T020000
RDATE:20250330T030000
TZOFFSETFROM:+0200
TZOFFSETTO:+0100
TZNAME:Europe/Berlin CET
END:STANDARD
BEGIN:STANDARD
DTSTART:20251026T020000
RDATE:20260329T030000
TZOFFSETFROM:+0200
TZOFFSETTO:+0100
TZNAME:Europe/Berlin CET
END:STANDARD
BEGIN:STANDARD
DTSTART:20261025T020000
RDATE:20270328T030000
TZOFFSETFROM:+0200
TZOFFSETTO:+0100
TZNAME:Europe/Berlin CET
END:STANDARD
BEGIN:STANDARD
DTSTART:20271031T020000
RDATE:20280326T030000
TZOFFSETFROM:+0200
TZOFFSETTO:+0100
TZNAME:Europe/Berlin CET
END:STANDARD
BEGIN:DAYLIGHT
DTSTART:20181002T000000
RDATE:20181028T020000
TZOFFSETFROM:+0100
TZOFFSETTO:+0200
TZNAME:Europe/Berlin CEST
END:DAYLIGHT
BEGIN:DAYLIGHT
DTSTART:20190331T030000
RDATE:20191027T020000
TZOFFSETFROM:+0100
TZOFFSETTO:+0200
TZNAME:Europe/Berlin CEST
END:DAYLIGHT
BEGIN:DAYLIGHT
DTSTART:20200329T030000
RDATE:20201025T020000
TZOFFSETFROM:+0100
TZOFFSETTO:+0200
TZNAME:Europe/Berlin CEST
END:DAYLIGHT
BEGIN:DAYLIGHT
DTSTART:20210328T030000
RDATE:20211031T020000
TZOFFSETFROM:+0100
TZOFFSETTO:+0200
TZNAME:Europe/Berlin CEST
END:DAYLIGHT
BEGIN:DAYLIGHT
DTSTART:20220327T030000
RDATE:20221030T020000
TZOFFSETFROM:+0100
TZOFFSETTO:+0200
TZNAME:Europe/Berlin CEST
END:DAYLIGHT
BEGIN:DAYLIGHT
DTSTART:20230326T030000
RDATE:20231029T020000
TZOFFSETFROM:+0100
TZOFFSETTO:+0200
TZNAME:Europe/Berlin CEST
END:DAYLIGHT
BEGIN:DAYLIGHT
DTSTART:20240331T030000
RDATE:20241027T020000
TZOFFSETFROM:+0100
TZOFFSETTO:+0200
TZNAME:Europe/Berlin CEST
END:DAYLIGHT
BEGIN:DAYLIGHT
DTSTART:20250330T030000
RDATE:20251026T020000
TZOFFSETFROM:+0100
TZOFFSETTO:+0200
TZNAME:Europe/Berlin CEST
END:DAYLIGHT
BEGIN:DAYLIGHT
DTSTART:20260329T030000
RDATE:20261025T020000
TZOFFSETFROM:+0100
TZOFFSETTO:+0200
TZNAME:Europe/Berlin CEST
END:DAYLIGHT
BEGIN:DAYLIGHT
DTSTART:20270328T030000
RDATE:20271031T020000
TZOFFSETFROM:+0100
TZOFFSETTO:+0200
TZNAME:Europe/Berlin CEST
END:DAYLIGHT
END:VTIMEZONE
BEGIN:VEVENT
UID:8e4f3c9ec10b42c0db31202a4c858127
CATEGORIES:Bikemarathons
CREATED:20190722T215504
SUMMARY:18. Adelsberger Bike Marathon 2019
LOCATION:Sporthalle Walter-Janka-Straße/Kleinolbersdorfer Str. in 09127 Chemnitz Ade
 lsberg 
DESCRIPTION:Ein geführtes Abfahren der Strecke findet voraussichtlich im August im Rahm
 en der Mittwochsrunde durch unseren Sponor Biker und Boarder statt.Das gena
 ue Datum und Treffpunkt wird auf der Website und bei Facebook bekannt gegeb
 en.die Wettkampfstrecke ist dauerhaft mit weißen und grünen Schilder im Ade
 rlsberger Wald markiert. Dieser Event wurde importiert von: http://2nd.silv
 ertrails.de/index.php/de-de/component/jevents/Eventdetail/66/18-adelsberger
 -bike-marathon-2019?Itemid1&amp;tmpl=component
X-ALT-DESC;FMTTYPE=text/html:Ein geführtes Abfahren der Strecke findet voraussichtlich im August im Rahm
 en der Mittwochsrunde durch unseren Sponor Biker und Boarder statt.Das gena
 ue Datum und Treffpunkt wird auf der Website und bei Facebook bekannt gegeb
 en.die Wettkampfstrecke ist dauerhaft mit weißen und grünen Schilder im Ade
 rlsberger Wald markiert. Dieser Event wurde importiert von: <a href="http:/
 /2nd.silvertrails.de/index.php/de-de/component/jevents/Eventdetail/66/18-ad
 elsberger-bike-marathon-2019?Itemid1&amp;tmpl=component">http://2nd.silver
 trails.de/index.php/de-de/component/jevents/Eventdetail/66/18-adelsberger-b
 ike-marathon-2019?Itemid1&amp;tmpl=component</a>
CONTACT:SG Adelsberg e.V. , https://www.adelsberger-bike-marathon.de/Ev (https://www.adelsberger-bike-marathon.de/Event)
X-EXTRAINFO:20 km Mountainbike-Rundkurs rund um den Adelsbergturm.\n80% unbefestigte Fe
 ld- &amp; Waldwege / 20% Asphalt.\n540m Höhendifferenz pro Runde
DTSTAMP:20260423T150207
DTSTART;TZID=Europe/Berlin;VALUE=DATE:20191003
DTEND;TZID=Europe/Berlin;VALUE=DATE:20191004
SEQUENCE:0
TRANSP:OPAQUE
END:VEVENT
END:VCALENDAR