BEGIN:VCALENDAR
VERSION:2.0
PRODID:-//jEvents 2.0 for Joomla//EN
CALSCALE:GREGORIAN
METHOD:PUBLISH
BEGIN:VTIMEZONE
TZID:Europe/Berlin
BEGIN:STANDARD
DTSTART:20191027T020000
RDATE:20200329T030000
TZOFFSETFROM:+0200
TZOFFSETTO:+0100
TZNAME:Europe/Berlin CET
END:STANDARD
BEGIN:STANDARD
DTSTART:20201025T020000
RDATE:20210328T030000
TZOFFSETFROM:+0200
TZOFFSETTO:+0100
TZNAME:Europe/Berlin CET
END:STANDARD
BEGIN:STANDARD
DTSTART:20211031T020000
RDATE:20220327T030000
TZOFFSETFROM:+0200
TZOFFSETTO:+0100
TZNAME:Europe/Berlin CET
END:STANDARD
BEGIN:STANDARD
DTSTART:20221030T020000
RDATE:20230326T030000
TZOFFSETFROM:+0200
TZOFFSETTO:+0100
TZNAME:Europe/Berlin CET
END:STANDARD
BEGIN:STANDARD
DTSTART:20231029T020000
RDATE:20240331T030000
TZOFFSETFROM:+0200
TZOFFSETTO:+0100
TZNAME:Europe/Berlin CET
END:STANDARD
BEGIN:STANDARD
DTSTART:20241027T020000
RDATE:20250330T030000
TZOFFSETFROM:+0200
TZOFFSETTO:+0100
TZNAME:Europe/Berlin CET
END:STANDARD
BEGIN:STANDARD
DTSTART:20251026T020000
RDATE:20260329T030000
TZOFFSETFROM:+0200
TZOFFSETTO:+0100
TZNAME:Europe/Berlin CET
END:STANDARD
BEGIN:STANDARD
DTSTART:20261025T020000
RDATE:20270328T030000
TZOFFSETFROM:+0200
TZOFFSETTO:+0100
TZNAME:Europe/Berlin CET
END:STANDARD
BEGIN:STANDARD
DTSTART:20271031T020000
RDATE:20280326T030000
TZOFFSETFROM:+0200
TZOFFSETTO:+0100
TZNAME:Europe/Berlin CET
END:STANDARD
BEGIN:DAYLIGHT
DTSTART:20190802T000000
RDATE:20191027T020000
TZOFFSETFROM:+0100
TZOFFSETTO:+0200
TZNAME:Europe/Berlin CEST
END:DAYLIGHT
BEGIN:DAYLIGHT
DTSTART:20200329T030000
RDATE:20201025T020000
TZOFFSETFROM:+0100
TZOFFSETTO:+0200
TZNAME:Europe/Berlin CEST
END:DAYLIGHT
BEGIN:DAYLIGHT
DTSTART:20210328T030000
RDATE:20211031T020000
TZOFFSETFROM:+0100
TZOFFSETTO:+0200
TZNAME:Europe/Berlin CEST
END:DAYLIGHT
BEGIN:DAYLIGHT
DTSTART:20220327T030000
RDATE:20221030T020000
TZOFFSETFROM:+0100
TZOFFSETTO:+0200
TZNAME:Europe/Berlin CEST
END:DAYLIGHT
BEGIN:DAYLIGHT
DTSTART:20230326T030000
RDATE:20231029T020000
TZOFFSETFROM:+0100
TZOFFSETTO:+0200
TZNAME:Europe/Berlin CEST
END:DAYLIGHT
BEGIN:DAYLIGHT
DTSTART:20240331T030000
RDATE:20241027T020000
TZOFFSETFROM:+0100
TZOFFSETTO:+0200
TZNAME:Europe/Berlin CEST
END:DAYLIGHT
BEGIN:DAYLIGHT
DTSTART:20250330T030000
RDATE:20251026T020000
TZOFFSETFROM:+0100
TZOFFSETTO:+0200
TZNAME:Europe/Berlin CEST
END:DAYLIGHT
BEGIN:DAYLIGHT
DTSTART:20260329T030000
RDATE:20261025T020000
TZOFFSETFROM:+0100
TZOFFSETTO:+0200
TZNAME:Europe/Berlin CEST
END:DAYLIGHT
BEGIN:DAYLIGHT
DTSTART:20270328T030000
RDATE:20271031T020000
TZOFFSETFROM:+0100
TZOFFSETTO:+0200
TZNAME:Europe/Berlin CEST
END:DAYLIGHT
END:VTIMEZONE
BEGIN:VEVENT
UID:63a96979b720ff245ebe2ad6bc21c2a2
CATEGORIES:Bikemarathons
CREATED:20191117T220219
SUMMARY:EBM - Erzgebirgsbikemarathon 2020
LOCATION:Festplatz/ Kurort Seiffen
DESCRIPTION:\n\nDER Bikemarathon des Erzgebirges in Seiffen\n\n\n \n9:00 Uhr Vorstart /
  Massenstart EBM GOLD + SILBER + BRONZE (der scharfe Start erfolgt "fliegen
 d" nach ca. 1 km) EBM - Bronze = 1 Runde 40 km (Das Rennen der Bauern) offe
 n für: Junioren / Damen / Herren / Masters 1+2+3+4 = AK Wertung\n\n\nEBM - 
 Silber = 70 km = 2 Runden a 29 km + ca. 12 km Einführung (Das Rennen der Pr
 inzen)\noffen für: Junioren / Damen / Herren / Masters 1+2+3 = AK Wertung /
  Tandem-Wertung\n\nEBM - Gold = 100 km = 3 Runden a 29 km + ca. 12 km Einfü
 hrung (Das Rennen der Könige)\n\noffen für: Damen / Herren / Masters 1+2+3 
 = AK Wertung EBM - TeamChallenge 1.- 3. Platz: 40 / 70 / 100 kmoffen für al
 le: Zu einem Team gehören beliebig viele Mitglieder, die alle über dieselbe
  Strecke und unter dem gleichen Teamnamen starten. Die 3 schnellsten Zeiten
  werden addiert und Frauen erhalten für die TeamChallenge-Wertung eine Zeit
 gutschrift auf ihre Zeit von 20%!   https://www.ebm100.de/ Dieser Event wur
 de importiert von: http://2nd.silvertrails.de/index.php/de-de/component/jev
 ents/Eventdetail/71/ebm-erzgebirgsbikemarathon-2020?Itemid1&amp;tmpl=compon
 ent
X-ALT-DESC;FMTTYPE=text/html:<br/><br/>DER Bikemarathon des Erzgebirges in Seiffen<br/><br/><br/> <br/>9
 :00 Uhr Vorstart / Massenstart EBM GOLD + SILBER + BRONZE (der scharfe Star
 t erfolgt "fliegend" nach ca. 1 km) EBM - Bronze = 1 Runde 40 km (Das Renne
 n der Bauern) offen für: Junioren / Damen / Herren / Masters 1+2+3+4 = AK W
 ertung<br/><br/><br/>EBM - Silber = 70 km = 2 Runden a 29 km + ca. 12 km Ei
 nführung (Das Rennen der Prinzen)<br/>offen für: Junioren / Damen / Herren 
 / Masters 1+2+3 = AK Wertung / Tandem-Wertung<br/><br/>EBM - Gold = 100 km 
 = 3 Runden a 29 km + ca. 12 km Einführung (Das Rennen der Könige)<br/><br/>
 offen für: Damen / Herren / Masters 1+2+3 = AK Wertung EBM - TeamChallenge 
 1.- 3. Platz: 40 / 70 / 100 kmoffen für alle: Zu einem Team gehören beliebi
 g viele Mitglieder, die alle über dieselbe Strecke und unter dem gleichen T
 eamnamen starten. Die 3 schnellsten Zeiten werden addiert und Frauen erhalt
 en für die TeamChallenge-Wertung eine Zeitgutschrift auf ihre Zeit von 20%!
    <a href="https://www.ebm100.de/">https://www.ebm100.de/</a> Dieser Event
  wurde importiert von: <a href="http://2nd.silvertrails.de/index.php/de-de/
 component/jevents/Eventdetail/71/ebm-erzgebirgsbikemarathon-2020?Itemid1&a
 mp;tmpl=component">http://2nd.silvertrails.de/index.php/de-de/component/jev
 ents/Eventdetail/71/ebm-erzgebirgsbikemarathon-2020?Itemid1&amp;tmpl=compo
 nent</a>
CONTACT:https://www.ebm100.de/?page=kontakt
X-EXTRAINFO:bei guten konditionellen und fahrtechnischen Fähigkeiten und trockenen Bedi
 ngungen zu 100% fahrbar, teilweise "ruppig" und anspruchsvoll, insgesamt la
 ndschaftlich attraktiver und eher schneller Rundkurs mit mittlerem Schwieri
 gkeitsgrad (60 % Forstwege, 25 % Asphalt, 15 % Single-Trail)
DTSTAMP:20260422T121812
DTSTART;TZID=Europe/Berlin;VALUE=DATE:20200802
DTEND;TZID=Europe/Berlin;VALUE=DATE:20200803
SEQUENCE:0
TRANSP:OPAQUE
END:VEVENT
END:VCALENDAR