BEGIN:VCALENDAR
VERSION:2.0
PRODID:-//jEvents 2.0 for Joomla//EN
CALSCALE:GREGORIAN
METHOD:PUBLISH
BEGIN:VTIMEZONE
TZID:Europe/Berlin
BEGIN:STANDARD
DTSTART:20191027T020000
RDATE:20200329T030000
TZOFFSETFROM:+0200
TZOFFSETTO:+0100
TZNAME:Europe/Berlin CET
END:STANDARD
BEGIN:STANDARD
DTSTART:20201025T020000
RDATE:20210328T030000
TZOFFSETFROM:+0200
TZOFFSETTO:+0100
TZNAME:Europe/Berlin CET
END:STANDARD
BEGIN:STANDARD
DTSTART:20211031T020000
RDATE:20220327T030000
TZOFFSETFROM:+0200
TZOFFSETTO:+0100
TZNAME:Europe/Berlin CET
END:STANDARD
BEGIN:STANDARD
DTSTART:20221030T020000
RDATE:20230326T030000
TZOFFSETFROM:+0200
TZOFFSETTO:+0100
TZNAME:Europe/Berlin CET
END:STANDARD
BEGIN:STANDARD
DTSTART:20231029T020000
RDATE:20240331T030000
TZOFFSETFROM:+0200
TZOFFSETTO:+0100
TZNAME:Europe/Berlin CET
END:STANDARD
BEGIN:STANDARD
DTSTART:20241027T020000
RDATE:20250330T030000
TZOFFSETFROM:+0200
TZOFFSETTO:+0100
TZNAME:Europe/Berlin CET
END:STANDARD
BEGIN:STANDARD
DTSTART:20251026T020000
RDATE:20260329T030000
TZOFFSETFROM:+0200
TZOFFSETTO:+0100
TZNAME:Europe/Berlin CET
END:STANDARD
BEGIN:STANDARD
DTSTART:20261025T020000
RDATE:20270328T030000
TZOFFSETFROM:+0200
TZOFFSETTO:+0100
TZNAME:Europe/Berlin CET
END:STANDARD
BEGIN:STANDARD
DTSTART:20271031T020000
RDATE:20280326T030000
TZOFFSETFROM:+0200
TZOFFSETTO:+0100
TZNAME:Europe/Berlin CET
END:STANDARD
BEGIN:DAYLIGHT
DTSTART:20190801T000000
RDATE:20191027T020000
TZOFFSETFROM:+0100
TZOFFSETTO:+0200
TZNAME:Europe/Berlin CEST
END:DAYLIGHT
BEGIN:DAYLIGHT
DTSTART:20200329T030000
RDATE:20201025T020000
TZOFFSETFROM:+0100
TZOFFSETTO:+0200
TZNAME:Europe/Berlin CEST
END:DAYLIGHT
BEGIN:DAYLIGHT
DTSTART:20210328T030000
RDATE:20211031T020000
TZOFFSETFROM:+0100
TZOFFSETTO:+0200
TZNAME:Europe/Berlin CEST
END:DAYLIGHT
BEGIN:DAYLIGHT
DTSTART:20220327T030000
RDATE:20221030T020000
TZOFFSETFROM:+0100
TZOFFSETTO:+0200
TZNAME:Europe/Berlin CEST
END:DAYLIGHT
BEGIN:DAYLIGHT
DTSTART:20230326T030000
RDATE:20231029T020000
TZOFFSETFROM:+0100
TZOFFSETTO:+0200
TZNAME:Europe/Berlin CEST
END:DAYLIGHT
BEGIN:DAYLIGHT
DTSTART:20240331T030000
RDATE:20241027T020000
TZOFFSETFROM:+0100
TZOFFSETTO:+0200
TZNAME:Europe/Berlin CEST
END:DAYLIGHT
BEGIN:DAYLIGHT
DTSTART:20250330T030000
RDATE:20251026T020000
TZOFFSETFROM:+0100
TZOFFSETTO:+0200
TZNAME:Europe/Berlin CEST
END:DAYLIGHT
BEGIN:DAYLIGHT
DTSTART:20260329T030000
RDATE:20261025T020000
TZOFFSETFROM:+0100
TZOFFSETTO:+0200
TZNAME:Europe/Berlin CEST
END:DAYLIGHT
BEGIN:DAYLIGHT
DTSTART:20270328T030000
RDATE:20271031T020000
TZOFFSETFROM:+0100
TZOFFSETTO:+0200
TZNAME:Europe/Berlin CEST
END:DAYLIGHT
END:VTIMEZONE
BEGIN:VEVENT
UID:ae01d15541e7e255dbaebbcbca3ff122
CATEGORIES:Bike- Touren
CREATED:20191117T220257
SUMMARY:EBM - 2020 - Kids and Family Day
LOCATION:Festplatz/ Kurort Seiffen
DESCRIPTION:\n\nDER Bikemarathon des Erzgebirges in Seiffen\n\n\n \n\n\n9:15 Uhr SCOTT 
 FAHRRAD-SPARTAKIADE-ERZGEBIRGE\nDas Betreten der Rennstrecke sowie das Begl
 eiten der Teilnehmer ist verboten und Verstöße führen zur Disqualifikation 
 des Teilnehmers. \n\n09:15 Uhr – EBM - Laufradrennen = 0,4 km  \n offen für
 : AK 3-4 &gt; Siegerehrung unmittelbar im Anschluß!\n(Knirpse 0 = 1 Runde a
  0,4 km) \n\nca. 09:35 Uhr – EBM - Mini = 1,7 km \noffen für: AK 5-6 \n(Kni
 rpse I = 1 Runde a 1,7 km)\n\n\nca. 09:50 Uhr - EBM - Mini = 3,5 km \n offe
 n für: AK 7-8 \n(Knirpse II = 3,5 km = 2 Runden a 1,7 km)\n\nca. 10:10 Uhr 
 – EBM - Mini = 15 km \n offen für:  AK 13-14 und AK 15-16\n(Schüler  und Ju
 gend = 15 km = 2 Runde a 7,5 km) \n\nca. 10:20 Uhr – EBM - Mini = 7,5 km \n
  offen für:  AK 11-12\n(Kinder = 7,5 km = 1 Runde a 7,5 km)\n\n\nca. 10:25 
 Uhr – EBM - Mini = 7,5 km \n offen für: AK 9-10\n(Knipse III = 7,5 km = 1 R
 unde a 7,5 km)\n\n\nEINRAD Rennen - Sachsenmeisterschaft\nca. 10:30 Uhr – E
 inrad Rennen = 2 Runden a 7,5 km = 15 km \n offen für: alle Altersklassen\n
 \n\n \n\n\n14:00 Uhr SEIFFEN TOUR\nDie Familienradtour über 25 km rund um S
 eiffen für mitgereiste Freunde, Familienangehörige und Einheimische! Die St
 recke führt durchweg über breite, gut befahrbare Waldwege und verkehrsarme 
 Nebenstraßen, es gibt einen Verpflegungspunkt. Das Startgeld von 5€ kommt e
 inem gemeinnützigen Zweck zu Gute. Also Spaß haben und was Gutes tun!\n\n\n
 17:00 Uhr UNDERPANT RIDE\n\n\n\n3 km Spass-Tour vom Festplatz zum Alp de We
 ttin, Teilnahme nur mit Unterhose / "Schlippi" oder Badehose / Bikini, kein
  Startgeld, 1 Freibier für jeden Teilnehmer am Ziel \n\n17:30 Uhr BERGSPRIN
 T \nBergsprint "Alp de Wettin" = 1 Durchgang mit max. 60 Teilnehmern - Star
 t erfolgt alle 30 sec.,  nach dem Prolog fahren die 6 schnellsten Männer de
 n Sieger in einem Finale aus = a 500 m (Spannung + Spaß + Action am Steilan
 stieg!)\n- ab AK 11-12 und älter (Anmeldung ausschließlich vor Ort in der T
 urnhalle am 03.08.19 bis 17:00 Uhr im Meldebüro!)\n- AK-Wertung (1.-3. Plat
 z jeder AK männlich + weiblich) Nußknacker für die Sieger und Platzierten! 
 Gewertet werden 3 Klassen -&gt; Jugend (AK 11-16), Herren / Damen (AK 17-29
 ), Senioren (AK 30-99) SONDERPREISE für die originellsten Vorstellungen! \n
 \n\n!\n   https://www.ebm100.de/ Dieser Event wurde importiert von: http://
 2nd.silvertrails.de/index.php/de-de/component/jevents/Eventdetail/72/ebm-20
 20-kids-and-family-day?Itemid1&amp;tmpl=component\n
X-ALT-DESC;FMTTYPE=text/html:<p><br /><br />DER Bikemarathon des Erzgebirges in Seiffen<br /><br /><br /
 > <br /><br /><br />9:15 Uhr SCOTT FAHRRAD-SPARTAKIADE-ERZGEBIRGE<br />Das 
 Betreten der Rennstrecke sowie das Begleiten der Teilnehmer ist verboten un
 d Verstöße führen zur Disqualifikation des Teilnehmers. <br /><br />09:15 U
 hr – EBM - Laufradrennen = 0,4 km  <br /> offen für: AK 3-4 &gt; Siegerehru
 ng unmittelbar im Anschluß!<br />(Knirpse 0 = 1 Runde a 0,4 km) <br /><br /
 >ca. 09:35 Uhr – EBM - Mini = 1,7 km <br />offen für: AK 5-6 <br />(Knirpse
  I = 1 Runde a 1,7 km)<br /><br /><br />ca. 09:50 Uhr - EBM - Mini = 3,5 km
  <br /> offen für: AK 7-8 <br />(Knirpse II = 3,5 km = 2 Runden a 1,7 km)<b
 r /><br />ca. 10:10 Uhr – EBM - Mini = 15 km <br /> offen für:  AK 13-14 un
 d AK 15-16<br />(Schüler  und Jugend = 15 km = 2 Runde a 7,5 km) <br /><br 
 />ca. 10:20 Uhr – EBM - Mini = 7,5 km <br /> offen für:  AK 11-12<br />(Kin
 der = 7,5 km = 1 Runde a 7,5 km)<br /><br /><br />ca. 10:25 Uhr – EBM - Min
 i = 7,5 km <br /> offen für: AK 9-10<br />(Knipse III = 7,5 km = 1 Runde a 
 7,5 km)<br /><br /><br />EINRAD Rennen - Sachsenmeisterschaft<br />ca. 10:3
 0 Uhr – Einrad Rennen = 2 Runden a 7,5 km = 15 km <br /> offen für: alle Al
 tersklassen<br /><br /><br /> <br /><br /><br />14:00 Uhr SEIFFEN TOUR<br /
 >Die Familienradtour über 25 km rund um Seiffen für mitgereiste Freunde, Fa
 milienangehörige und Einheimische! Die Strecke führt durchweg über breite, 
 gut befahrbare Waldwege und verkehrsarme Nebenstraßen, es gibt einen Verpfl
 egungspunkt. Das Startgeld von 5€ kommt einem gemeinnützigen Zweck zu Gute.
  Also Spaß haben und was Gutes tun!<br /><br /><br />17:00 Uhr UNDERPANT RI
 DE<br /><br /><br /><br />3 km Spass-Tour vom Festplatz zum Alp de Wettin, 
 Teilnahme nur mit Unterhose / "Schlippi" oder Badehose / Bikini, kein Start
 geld, 1 Freibier für jeden Teilnehmer am Ziel <br /><br />17:30 Uhr BERGSPR
 INT <br />Bergsprint "Alp de Wettin" = 1 Durchgang mit max. 60 Teilnehmern 
 - Start erfolgt alle 30 sec.,  nach dem Prolog fahren die 6 schnellsten Män
 ner den Sieger in einem Finale aus = a 500 m (Spannung + Spaß + Action am S
 teilanstieg!)<br />- ab AK 11-12 und älter (Anmeldung ausschließlich vor Or
 t in der Turnhalle am 03.08.19 bis 17:00 Uhr im Meldebüro!)<br />- AK-Wertu
 ng (1.-3. Platz jeder AK männlich + weiblich) Nußknacker für die Sieger und
  Platzierten! Gewertet werden 3 Klassen -&gt; Jugend (AK 11-16), Herren / D
 amen (AK 17-29), Senioren (AK 30-99) SONDERPREISE für die originellsten Vor
 stellungen! <br /><br /><br />!<br />   <a href="https://www.ebm100.de/">ht
 tps://www.ebm100.de/</a> Dieser Event wurde importiert von: <a href="http:/
 /2nd.silvertrails.de/index.php/de-de/component/jevents/Eventdetail/72/ebm-2
 020-kids-and-family-day?Itemid1&amp;tmpl=component">http://2nd.silvertrail
 s.de/index.php/de-de/component/jevents/Eventdetail/72/ebm-2020-kids-and-fam
 ily-day?Itemid1&amp;tmpl=component</a></p>
CONTACT:https://www.ebm100.de/?page=kontakt
X-EXTRAINFO:bei guten konditionellen und fahrtechnischen Fähigkeiten und trockenen Bedi
 ngungen zu 100% fahrbar, teilweise "ruppig" und anspruchsvoll, insgesamt la
 ndschaftlich attraktiver und eher schneller Rundkurs mit mittlerem Schwieri
 gkeitsgrad (60 % Forstwege, 25 % Asphalt, 15 % Single-Trail)
DTSTAMP:20260422T121812
DTSTART;TZID=Europe/Berlin;VALUE=DATE:20200801
DTEND;TZID=Europe/Berlin;VALUE=DATE:20200802
SEQUENCE:0
TRANSP:OPAQUE
END:VEVENT
END:VCALENDAR