BEGIN:VCALENDAR
VERSION:2.0
PRODID:-//jEvents 2.0 for Joomla//EN
CALSCALE:GREGORIAN
METHOD:PUBLISH
BEGIN:VTIMEZONE
TZID:Europe/Berlin
BEGIN:STANDARD
DTSTART:20201025T020000
RDATE:20210328T030000
TZOFFSETFROM:+0200
TZOFFSETTO:+0100
TZNAME:Europe/Berlin CET
END:STANDARD
BEGIN:STANDARD
DTSTART:20211031T020000
RDATE:20220327T030000
TZOFFSETFROM:+0200
TZOFFSETTO:+0100
TZNAME:Europe/Berlin CET
END:STANDARD
BEGIN:STANDARD
DTSTART:20221030T020000
RDATE:20230326T030000
TZOFFSETFROM:+0200
TZOFFSETTO:+0100
TZNAME:Europe/Berlin CET
END:STANDARD
BEGIN:STANDARD
DTSTART:20231029T020000
RDATE:20240331T030000
TZOFFSETFROM:+0200
TZOFFSETTO:+0100
TZNAME:Europe/Berlin CET
END:STANDARD
BEGIN:STANDARD
DTSTART:20241027T020000
RDATE:20250330T030000
TZOFFSETFROM:+0200
TZOFFSETTO:+0100
TZNAME:Europe/Berlin CET
END:STANDARD
BEGIN:STANDARD
DTSTART:20251026T020000
RDATE:20260329T030000
TZOFFSETFROM:+0200
TZOFFSETTO:+0100
TZNAME:Europe/Berlin CET
END:STANDARD
BEGIN:STANDARD
DTSTART:20261025T020000
RDATE:20270328T030000
TZOFFSETFROM:+0200
TZOFFSETTO:+0100
TZNAME:Europe/Berlin CET
END:STANDARD
BEGIN:STANDARD
DTSTART:20271031T020000
RDATE:20280326T030000
TZOFFSETFROM:+0200
TZOFFSETTO:+0100
TZNAME:Europe/Berlin CET
END:STANDARD
BEGIN:DAYLIGHT
DTSTART:20200523T000000
RDATE:20201025T020000
TZOFFSETFROM:+0100
TZOFFSETTO:+0200
TZNAME:Europe/Berlin CEST
END:DAYLIGHT
BEGIN:DAYLIGHT
DTSTART:20210328T030000
RDATE:20211031T020000
TZOFFSETFROM:+0100
TZOFFSETTO:+0200
TZNAME:Europe/Berlin CEST
END:DAYLIGHT
BEGIN:DAYLIGHT
DTSTART:20220327T030000
RDATE:20221030T020000
TZOFFSETFROM:+0100
TZOFFSETTO:+0200
TZNAME:Europe/Berlin CEST
END:DAYLIGHT
BEGIN:DAYLIGHT
DTSTART:20230326T030000
RDATE:20231029T020000
TZOFFSETFROM:+0100
TZOFFSETTO:+0200
TZNAME:Europe/Berlin CEST
END:DAYLIGHT
BEGIN:DAYLIGHT
DTSTART:20240331T030000
RDATE:20241027T020000
TZOFFSETFROM:+0100
TZOFFSETTO:+0200
TZNAME:Europe/Berlin CEST
END:DAYLIGHT
BEGIN:DAYLIGHT
DTSTART:20250330T030000
RDATE:20251026T020000
TZOFFSETFROM:+0100
TZOFFSETTO:+0200
TZNAME:Europe/Berlin CEST
END:DAYLIGHT
BEGIN:DAYLIGHT
DTSTART:20260329T030000
RDATE:20261025T020000
TZOFFSETFROM:+0100
TZOFFSETTO:+0200
TZNAME:Europe/Berlin CEST
END:DAYLIGHT
BEGIN:DAYLIGHT
DTSTART:20270328T030000
RDATE:20271031T020000
TZOFFSETFROM:+0100
TZOFFSETTO:+0200
TZNAME:Europe/Berlin CEST
END:DAYLIGHT
END:VTIMEZONE
BEGIN:VEVENT
UID:f9ec0b671f6285f05b49d0c578e10349
CATEGORIES:Bikemarathons
CREATED:20210415T185314
SUMMARY:7. MTB Marathon Dresden
LOCATION:ALAUNPARK DRESDEN (01099 Neustadt)
DESCRIPTION:MTB Marathon Dresden mit Heide Trailrun \nStart/Ziel ALAUNPARK DRESDEN (010
 99 Neustadt)\n09:30 Uhr erster Start\nStreckenlänge voraussichtlich 30 und 
 60 km\n \nonline bis zum 23. Mai 2021, 24:00 Uhr\nNachmeldung vor Ort dann 
 nur gegen Nachmeldegebühr möglich.\n \nhttps://www.mtb-marathon-dresden.de/
 ausschreibung-marathon.html (https://www.mtb-marathon-dresden.de/ausschreib
 ung-marathon.html)\n \n
X-ALT-DESC;FMTTYPE=text/html:<h2 class="ce_headline align-center first"><span style="font-size: 12pt;"><
 strong>MTB Marathon Dresden</strong></span> <span style="font-size: 10pt;">
 <strong>mit Heide Trailrun</strong></span></h2><p> </p><p><span style="font
 -size: 10pt;">Start/Ziel ALAUNPARK DRESDEN (01099 Neustadt)</span></p><p><s
 pan style="font-size: 10pt;">09:30 Uhr erster Start</span></p><p><span styl
 e="font-size: 10pt;">Streckenlänge voraussichtlich 30 und 60 km</span></p><
 p> </p><p style="text-align: left;" align="LEFT"><span style="font-size: 10
 pt;">online bis zum<strong> 23. Mai 2021, 24:00 Uhr</strong></span></p><p s
 tyle="text-align: left;" align="LEFT"><span style="font-size: 10pt;">Nachme
 ldung vor Ort dann nur gegen Nachmeldegebühr möglich.</span></p><p style="t
 ext-align: left;" align="LEFT"> </p><p style="text-align: left;" align="LEF
 T"><span style="font-size: 10pt;"><a href="https://www.mtb-marathon-dresden
 .de/ausschreibung-marathon.html">https://www.mtb-marathon-dresden.de/aussch
 reibung-marathon.html</a></span></p><p style="text-align: left;" align="LEF
 T"> </p>
CONTACT:https://www.mtb-marathon-dresden.de/ausschreibung-marathon.html
X-EXTRAINFO:Mo. 24.05.21 Alaunpark\n07:00 - 09:00 Uhr Ausgabe Startunterlagen und Nachm
 eldung\n09:30 Uhr Start Marathon mit Elite- und Damenblock\n09:45 Uhr Start
  Halbmarathon mit Elite- und Damenblock und U17\n10:00 Uhr Start Heide Trai
 l (siehe extra Ausschreibung)\n10:15 Uhr Start MTB Schülercup U11, U13 und 
 U15\n12:00 Uhr Kinder- und Laufradrennen\nCa. 14:00 Uhr Siegerehrung
DTSTAMP:20260422T004231
DTSTART;TZID=Europe/Berlin;VALUE=DATE:20210524
DTEND;TZID=Europe/Berlin;VALUE=DATE:20210525
SEQUENCE:0
TRANSP:OPAQUE
END:VEVENT
END:VCALENDAR