BEGIN:VCALENDAR
VERSION:2.0
PRODID:-//jEvents 2.0 for Joomla//EN
CALSCALE:GREGORIAN
METHOD:PUBLISH
BEGIN:VTIMEZONE
TZID:Europe/Berlin
BEGIN:STANDARD
DTSTART:20201025T020000
RDATE:20210328T030000
TZOFFSETFROM:+0200
TZOFFSETTO:+0100
TZNAME:Europe/Berlin CET
END:STANDARD
BEGIN:STANDARD
DTSTART:20211031T020000
RDATE:20220327T030000
TZOFFSETFROM:+0200
TZOFFSETTO:+0100
TZNAME:Europe/Berlin CET
END:STANDARD
BEGIN:STANDARD
DTSTART:20221030T020000
RDATE:20230326T030000
TZOFFSETFROM:+0200
TZOFFSETTO:+0100
TZNAME:Europe/Berlin CET
END:STANDARD
BEGIN:STANDARD
DTSTART:20231029T020000
RDATE:20240331T030000
TZOFFSETFROM:+0200
TZOFFSETTO:+0100
TZNAME:Europe/Berlin CET
END:STANDARD
BEGIN:STANDARD
DTSTART:20241027T020000
RDATE:20250330T030000
TZOFFSETFROM:+0200
TZOFFSETTO:+0100
TZNAME:Europe/Berlin CET
END:STANDARD
BEGIN:STANDARD
DTSTART:20251026T020000
RDATE:20260329T030000
TZOFFSETFROM:+0200
TZOFFSETTO:+0100
TZNAME:Europe/Berlin CET
END:STANDARD
BEGIN:STANDARD
DTSTART:20261025T020000
RDATE:20270328T030000
TZOFFSETFROM:+0200
TZOFFSETTO:+0100
TZNAME:Europe/Berlin CET
END:STANDARD
BEGIN:STANDARD
DTSTART:20271031T020000
RDATE:20280326T030000
TZOFFSETFROM:+0200
TZOFFSETTO:+0100
TZNAME:Europe/Berlin CET
END:STANDARD
BEGIN:DAYLIGHT
DTSTART:20200605T000000
RDATE:20201025T020000
TZOFFSETFROM:+0100
TZOFFSETTO:+0200
TZNAME:Europe/Berlin CEST
END:DAYLIGHT
BEGIN:DAYLIGHT
DTSTART:20210328T030000
RDATE:20211031T020000
TZOFFSETFROM:+0100
TZOFFSETTO:+0200
TZNAME:Europe/Berlin CEST
END:DAYLIGHT
BEGIN:DAYLIGHT
DTSTART:20220327T030000
RDATE:20221030T020000
TZOFFSETFROM:+0100
TZOFFSETTO:+0200
TZNAME:Europe/Berlin CEST
END:DAYLIGHT
BEGIN:DAYLIGHT
DTSTART:20230326T030000
RDATE:20231029T020000
TZOFFSETFROM:+0100
TZOFFSETTO:+0200
TZNAME:Europe/Berlin CEST
END:DAYLIGHT
BEGIN:DAYLIGHT
DTSTART:20240331T030000
RDATE:20241027T020000
TZOFFSETFROM:+0100
TZOFFSETTO:+0200
TZNAME:Europe/Berlin CEST
END:DAYLIGHT
BEGIN:DAYLIGHT
DTSTART:20250330T030000
RDATE:20251026T020000
TZOFFSETFROM:+0100
TZOFFSETTO:+0200
TZNAME:Europe/Berlin CEST
END:DAYLIGHT
BEGIN:DAYLIGHT
DTSTART:20260329T030000
RDATE:20261025T020000
TZOFFSETFROM:+0100
TZOFFSETTO:+0200
TZNAME:Europe/Berlin CEST
END:DAYLIGHT
BEGIN:DAYLIGHT
DTSTART:20270328T030000
RDATE:20271031T020000
TZOFFSETFROM:+0100
TZOFFSETTO:+0200
TZNAME:Europe/Berlin CEST
END:DAYLIGHT
END:VTIMEZONE
BEGIN:VEVENT
UID:65f0d0c66786506ccd15da79def8fb69
CATEGORIES:Bikemarathons
CREATED:20210415T185832
SUMMARY:5. Miriquidi Bike Challenge
LOCATION:Start &amp; Ziel ist am Tourismuszentrum: Gelobtland 28 · 09496 Marienberg 
 OT Gelobtland
DESCRIPTION: \nNeuer Termin 05. und 06.06.2021 !Die Entscheidung zur 5. Auflage der Mir
 iquidi Bike Challenge ist uns sehr schwer gefallen. Bis zum Schluss haben w
 ir gehofft und gekämpft, die Rennen für und mit Euch in diesem Jahr stattfi
 nden zu lassen. Wir werden jedoch die 5. Auflage der Miriquidi Bike Challen
 ge auf das kommende Jahr verschieben. Ihr könnt euch bereits das Wochenende
  des 05. und 06. Juni 2021 für das beste Event des Jahres freihalten!!\n Nu
 tzt die Zeit zum Trainieren, zum Auswählen der Regenkleidung und bleibt Ges
 und.\n\n Euer MBC Team  \n  \nDie Strecke beinhaltet sehr viele Trails, ein
 en geringen Anteil an Schotterwegen und nur 1% Asphalt. Der Rest führt über
  gut fahrbare Waldwege. \n \n Streckenlängen: 30 - 60 - 90 km. Es handelt s
 ich um einen Rundkurs. Eine Runde beinhaltet 30 km und 680 Hm.\n \nhttps://
 www.miriquidi-mtb.de/info.php\n
X-ALT-DESC;FMTTYPE=text/html:<p> </p><h3><span style="text-decoration: underline; font-size: 12pt; color
 : #ff6600;"><em>Neuer Termin 05. und 06.06.2021 !</em></span></h3><div id="
 wrapper"><div id="content"><div class="text">Die Entscheidung zur 5. Auflag
 e der Miriquidi Bike Challenge ist uns sehr schwer gefallen. Bis zum Schlus
 s haben wir gehofft und gekämpft, die Rennen für und mit Euch in diesem Jah
 r stattfinden zu lassen. Wir werden jedoch die 5. Auflage der Miriquidi Bik
 e Challenge auf das kommende Jahr verschieben. Ihr könnt euch bereits das W
 ochenende des 05. und 06. Juni 2021 für das beste Event des Jahres freihalt
 en!!<br /> Nutzt die Zeit zum Trainieren, zum Auswählen der Regenkleidung u
 nd bleibt Gesund.<br /><br /> Euer MBC Team</div><div class="clear"> </div>
 </div></div><p> </p><div id="footer"> </div><p> </p><p><span style="font-si
 ze: 10pt;">Die Strecke beinhaltet sehr viele Trails, einen geringen Anteil 
 an Schotterwegen und nur 1% Asphalt. Der Rest führt über gut fahrbare Waldw
 ege. </span><br /> <br /><span style="font-size: 10pt;"> <b>Streckenlängen:
 </b> 30 - 60 - 90 km. Es handelt sich um einen Rundkurs. Eine Runde beinhal
 tet 30 km und 680 Hm.</span></p><p> </p><p><span style="font-size: 10pt;">h
 ttps://www.miriquidi-mtb.de/info.php</span></p>
CONTACT:E-Mail: info @ miriquidi-mtb.de
X-EXTRAINFO:Startzeiten:\n30km E-Bike: 08.30 Uhr	\n90 km: 09.00 Uhr	\n60 km: 10.00 Uhr\
 n30 km: 11.00 Uhr
DTSTAMP:20260422T021558
DTSTART;TZID=Europe/Berlin;VALUE=DATE:20210606
DTEND;TZID=Europe/Berlin;VALUE=DATE:20210607
SEQUENCE:0
TRANSP:OPAQUE
END:VEVENT
END:VCALENDAR