BEGIN:VCALENDAR
VERSION:2.0
PRODID:-//jEvents 2.0 for Joomla//EN
CALSCALE:GREGORIAN
METHOD:PUBLISH
BEGIN:VTIMEZONE
TZID:Europe/Berlin
BEGIN:STANDARD
DTSTART:20201025T020000
RDATE:20210328T030000
TZOFFSETFROM:+0200
TZOFFSETTO:+0100
TZNAME:Europe/Berlin CET
END:STANDARD
BEGIN:STANDARD
DTSTART:20211031T020000
RDATE:20220327T030000
TZOFFSETFROM:+0200
TZOFFSETTO:+0100
TZNAME:Europe/Berlin CET
END:STANDARD
BEGIN:STANDARD
DTSTART:20221030T020000
RDATE:20230326T030000
TZOFFSETFROM:+0200
TZOFFSETTO:+0100
TZNAME:Europe/Berlin CET
END:STANDARD
BEGIN:STANDARD
DTSTART:20231029T020000
RDATE:20240331T030000
TZOFFSETFROM:+0200
TZOFFSETTO:+0100
TZNAME:Europe/Berlin CET
END:STANDARD
BEGIN:STANDARD
DTSTART:20241027T020000
RDATE:20250330T030000
TZOFFSETFROM:+0200
TZOFFSETTO:+0100
TZNAME:Europe/Berlin CET
END:STANDARD
BEGIN:STANDARD
DTSTART:20251026T020000
RDATE:20260329T030000
TZOFFSETFROM:+0200
TZOFFSETTO:+0100
TZNAME:Europe/Berlin CET
END:STANDARD
BEGIN:STANDARD
DTSTART:20261025T020000
RDATE:20270328T030000
TZOFFSETFROM:+0200
TZOFFSETTO:+0100
TZNAME:Europe/Berlin CET
END:STANDARD
BEGIN:STANDARD
DTSTART:20271031T020000
RDATE:20280326T030000
TZOFFSETFROM:+0200
TZOFFSETTO:+0100
TZNAME:Europe/Berlin CET
END:STANDARD
BEGIN:DAYLIGHT
DTSTART:20200604T000000
RDATE:20201025T020000
TZOFFSETFROM:+0100
TZOFFSETTO:+0200
TZNAME:Europe/Berlin CEST
END:DAYLIGHT
BEGIN:DAYLIGHT
DTSTART:20210328T030000
RDATE:20211031T020000
TZOFFSETFROM:+0100
TZOFFSETTO:+0200
TZNAME:Europe/Berlin CEST
END:DAYLIGHT
BEGIN:DAYLIGHT
DTSTART:20220327T030000
RDATE:20221030T020000
TZOFFSETFROM:+0100
TZOFFSETTO:+0200
TZNAME:Europe/Berlin CEST
END:DAYLIGHT
BEGIN:DAYLIGHT
DTSTART:20230326T030000
RDATE:20231029T020000
TZOFFSETFROM:+0100
TZOFFSETTO:+0200
TZNAME:Europe/Berlin CEST
END:DAYLIGHT
BEGIN:DAYLIGHT
DTSTART:20240331T030000
RDATE:20241027T020000
TZOFFSETFROM:+0100
TZOFFSETTO:+0200
TZNAME:Europe/Berlin CEST
END:DAYLIGHT
BEGIN:DAYLIGHT
DTSTART:20250330T030000
RDATE:20251026T020000
TZOFFSETFROM:+0100
TZOFFSETTO:+0200
TZNAME:Europe/Berlin CEST
END:DAYLIGHT
BEGIN:DAYLIGHT
DTSTART:20260329T030000
RDATE:20261025T020000
TZOFFSETFROM:+0100
TZOFFSETTO:+0200
TZNAME:Europe/Berlin CEST
END:DAYLIGHT
BEGIN:DAYLIGHT
DTSTART:20270328T030000
RDATE:20271031T020000
TZOFFSETFROM:+0100
TZOFFSETTO:+0200
TZNAME:Europe/Berlin CEST
END:DAYLIGHT
END:VTIMEZONE
BEGIN:VEVENT
UID:7ac6d184ac231e66e1ee1a498d844bd3
CATEGORIES:Bike- Touren
CREATED:20210415T190104
SUMMARY:7. Miriquidi-Kids-Race
LOCATION:Start &amp; Ziel ist am Tourismuszentrum: Gelobtland 28 · 09496 Marienberg 
 OT Gelobtland
DESCRIPTION:Neuer Termin 05. und 06.06.2021 !Die Entscheidung zur 5. Auflage der Miriqu
 idi Bike Challenge ist uns sehr schwer gefallen. Bis zum Schluss haben wir 
 gehofft und gekämpft, die Rennen für und mit Euch in diesem Jahr stattfinde
 n zu lassen. Wir werden jedoch die 5. Auflage der Miriquidi Bike Challenge 
 auf das kommende Jahr verschieben. Ihr könnt euch bereits das Wochenende de
 s 05. und 06. Juni 2021 für das beste Event des Jahres freihalten!!\n Nutzt
  die Zeit zum Trainieren, zum Auswählen der Regenkleidung und bleibt Gesund
 .\n\n Euer MBC Team  \n  \nAuch in diesem Jahr bieten wir wieder das Miriqu
 idi Kinderrennen an. \nEs handelt sich hierbei um 5 verschiedene Streckenlä
 ngen die je nach Alter gefahren werden können. Es beginnt mit dem Laufradre
 nnen 0,5 km. Danach folgt die Bike-Runde mit einer Länge von 2km. Für die g
 rößeren gibt es die 5 km, 10km oder die 15km Runde.\n
X-ALT-DESC;FMTTYPE=text/html:<h3><span style="text-decoration: underline; font-size: 12pt; color: #ff660
 0;"><em>Neuer Termin 05. und 06.06.2021 !</em></span></h3><div id="wrapper"
 ><div id="content"><div class="text">Die Entscheidung zur 5. Auflage der Mi
 riquidi Bike Challenge ist uns sehr schwer gefallen. Bis zum Schluss haben 
 wir gehofft und gekämpft, die Rennen für und mit Euch in diesem Jahr stattf
 inden zu lassen. Wir werden jedoch die 5. Auflage der Miriquidi Bike Challe
 nge auf das kommende Jahr verschieben. Ihr könnt euch bereits das Wochenend
 e des 05. und 06. Juni 2021 für das beste Event des Jahres freihalten!!<br 
 /> Nutzt die Zeit zum Trainieren, zum Auswählen der Regenkleidung und bleib
 t Gesund.<br /><br /> Euer MBC Team</div><div class="clear"> </div></div></
 div><p> </p><div id="footer"> </div><p> </p><p><span style="font-size: 10pt
 ;">Auch in diesem Jahr bieten wir wieder das Miriquidi Kinderrennen an. </s
 pan><br /><span style="font-size: 10pt;">Es handelt sich hierbei um 5 versc
 hiedene Streckenlängen die je nach Alter gefahren werden können. Es beginnt
  mit dem Laufradrennen 0,5 km. Danach folgt die Bike-Runde mit einer Länge 
 von 2km. Für die größeren gibt es die 5 km, 10km oder die 15km Runde.</span
 ></p>
CONTACT:E-Mail: info @ miriquidi-mtb.de
X-EXTRAINFO:Startzeiten:\nLaufradrennen 0,5km: 09.00 Uhr	\nKids Race 2km AK 5-6 km: 09.
 30 Uhr\nKids Race 5km AK 7-8 km: 10.00 Uhr\nKids Race 5km AK 9-10 km: 10.00
  Uhr\nKids Race 10km AK 11-12 km: 10.30 Uhr\nKids Race 10km AK 13-14 km: 10
 .30 Uhr\nKids Race 15km AK 15-16 km: 10.30 Uhr
DTSTAMP:20260422T021615
DTSTART;TZID=Europe/Berlin;VALUE=DATE:20210605
DTEND;TZID=Europe/Berlin;VALUE=DATE:20210606
SEQUENCE:0
TRANSP:OPAQUE
END:VEVENT
END:VCALENDAR