BEGIN:VCALENDAR
VERSION:2.0
PRODID:-//jEvents 2.0 for Joomla//EN
CALSCALE:GREGORIAN
METHOD:PUBLISH
BEGIN:VTIMEZONE
TZID:Europe/Berlin
BEGIN:STANDARD
DTSTART:20201025T020000
RDATE:20210328T030000
TZOFFSETFROM:+0200
TZOFFSETTO:+0100
TZNAME:Europe/Berlin CET
END:STANDARD
BEGIN:STANDARD
DTSTART:20211031T020000
RDATE:20220327T030000
TZOFFSETFROM:+0200
TZOFFSETTO:+0100
TZNAME:Europe/Berlin CET
END:STANDARD
BEGIN:STANDARD
DTSTART:20221030T020000
RDATE:20230326T030000
TZOFFSETFROM:+0200
TZOFFSETTO:+0100
TZNAME:Europe/Berlin CET
END:STANDARD
BEGIN:STANDARD
DTSTART:20231029T020000
RDATE:20240331T030000
TZOFFSETFROM:+0200
TZOFFSETTO:+0100
TZNAME:Europe/Berlin CET
END:STANDARD
BEGIN:STANDARD
DTSTART:20241027T020000
RDATE:20250330T030000
TZOFFSETFROM:+0200
TZOFFSETTO:+0100
TZNAME:Europe/Berlin CET
END:STANDARD
BEGIN:STANDARD
DTSTART:20251026T020000
RDATE:20260329T030000
TZOFFSETFROM:+0200
TZOFFSETTO:+0100
TZNAME:Europe/Berlin CET
END:STANDARD
BEGIN:STANDARD
DTSTART:20261025T020000
RDATE:20270328T030000
TZOFFSETFROM:+0200
TZOFFSETTO:+0100
TZNAME:Europe/Berlin CET
END:STANDARD
BEGIN:STANDARD
DTSTART:20271031T020000
RDATE:20280326T030000
TZOFFSETFROM:+0200
TZOFFSETTO:+0100
TZNAME:Europe/Berlin CET
END:STANDARD
BEGIN:DAYLIGHT
DTSTART:20200731T000000
RDATE:20201025T020000
TZOFFSETFROM:+0100
TZOFFSETTO:+0200
TZNAME:Europe/Berlin CEST
END:DAYLIGHT
BEGIN:DAYLIGHT
DTSTART:20210328T030000
RDATE:20211031T020000
TZOFFSETFROM:+0100
TZOFFSETTO:+0200
TZNAME:Europe/Berlin CEST
END:DAYLIGHT
BEGIN:DAYLIGHT
DTSTART:20220327T030000
RDATE:20221030T020000
TZOFFSETFROM:+0100
TZOFFSETTO:+0200
TZNAME:Europe/Berlin CEST
END:DAYLIGHT
BEGIN:DAYLIGHT
DTSTART:20230326T030000
RDATE:20231029T020000
TZOFFSETFROM:+0100
TZOFFSETTO:+0200
TZNAME:Europe/Berlin CEST
END:DAYLIGHT
BEGIN:DAYLIGHT
DTSTART:20240331T030000
RDATE:20241027T020000
TZOFFSETFROM:+0100
TZOFFSETTO:+0200
TZNAME:Europe/Berlin CEST
END:DAYLIGHT
BEGIN:DAYLIGHT
DTSTART:20250330T030000
RDATE:20251026T020000
TZOFFSETFROM:+0100
TZOFFSETTO:+0200
TZNAME:Europe/Berlin CEST
END:DAYLIGHT
BEGIN:DAYLIGHT
DTSTART:20260329T030000
RDATE:20261025T020000
TZOFFSETFROM:+0100
TZOFFSETTO:+0200
TZNAME:Europe/Berlin CEST
END:DAYLIGHT
BEGIN:DAYLIGHT
DTSTART:20270328T030000
RDATE:20271031T020000
TZOFFSETFROM:+0100
TZOFFSETTO:+0200
TZNAME:Europe/Berlin CEST
END:DAYLIGHT
END:VTIMEZONE
BEGIN:VEVENT
UID:1f51ebb79741f6f3f6422a22ddadccda
CATEGORIES:Bikemarathons
CREATED:20210603T224456
SUMMARY:EBM - Erzgebirgsbikemarathon 2021
LOCATION:Festplatz/ Kurort Seiffen
DESCRIPTION:\nDER Bikemarathon des Erzgebirges in Seiffen\n\n \nDer 29. EBM 2021 wird u
 nter allen Umständen stattfinden, wir organisieren unsere Veranstaltung so 
 wie immer und wir sind optimistisch, dass wir diese auch so durchführen kön
 nen. Sollten sich – wegen Corona – Probleme oder Einschränkungen ergeben, h
 aben wir verschiedene Alternativen (siehe unten) vorbereitet. Bitte beachte
 t die Änderungen, die sich dann für die Teilnehmer ergeben. Bei Plan B (kei
 n Massenstart) kommt es nur zu einer Verschiebung der Startzeiten, bei Plan
  C wird aber das Rennen über 40 km (Bronze) auf Samstag vorgezogen.   &gt;&
 gt;&gt; RENNEN 01.08.21 - Race Day\n9:00 Uhr Vorstart / Massenstart EBM GOL
 D + SILBER + BRONZE (der scharfe Start erfolgt "fliegend" nach ca. 1 km) EB
 M - Bronze = 1 Runde 40 km (Das Rennen der Bauern) offen für: Junioren / Da
 men / Herren / Masters 1+2+3+4 = AK Wertung\nEBM - Silber = 70 km = 2 Runde
 n a 29 km + ca. 12 km Einführung (Das Rennen der Prinzen)\noffen für: Junio
 ren / Damen / Herren / Masters 1+2+3 = AK Wertung / Tandem-Wertung\n\nEBM -
  Gold = 100 km = 3 Runden a 29 km + ca. 12 km Einführung (Das Rennen der Kö
 nige)\noffen für: Damen / Herren / Masters 1+2+3 = AK Wertung ... Die Aussc
 hreibung (https://www.ebm100.de/?page=ausschreibung&amp;subid=618) \n \n \n
  \n
X-ALT-DESC;FMTTYPE=text/html:<h3><br /><span style="font-size: 12pt; color: #339966;">DER Bikemarathon d
 es Erzgebirges in Seiffen</span><br /><br /></h3><p> </p><div><strong><em>D
 er 29. EBM 2021 wird unter allen Umständen stattfinden, wir organisieren un
 sere Veranstaltung so wie immer und wir sind optimistisch, dass wir diese a
 uch so durchführen können. Sollten sich – wegen Corona – Probleme oder Eins
 chränkungen ergeben, haben wir verschiedene Alternativen (siehe unten) v</e
 m></strong><strong><em>orbereitet. Bitte beachtet die Änderungen, die </em>
 </strong><strong><em>sich dann für die Teilnehmer ergeben. Bei Plan B (kein
  Massenstart) kommt es nur zu einer Verschiebung der Startzeiten, bei Plan 
 C wird aber das Rennen über 40 km (Bronze) auf Samstag vorgezogen.  </em></
 strong></div><div> </div><div><strong>&gt;&gt;&gt; RENNEN</strong></div><di
 v> </div><div><div><p><span style="text-decoration: underline;"><strong>01.
 08.21 - Race Day</strong></span></p></div><div><strong>9:00 Uhr Vorstart / 
 Massenstart EBM GOLD + SILBER + BRONZE </strong></div><div><div>(der scharf
 e Start erfolgt "fliegend" nach ca. 1 km)</div><div> </div><div>EBM - Bronz
 e = 1 Runde 40 km (Das Rennen der Bauern) </div><div><span style="text-deco
 ration: underline;">offen für:</span> Junioren / Damen / Herren / Masters 1
 +2+3+4 = AK Wertung</div><br />EBM - Silber = 70 km = 2 Runden a 29 km + ca
 . 12 km Einführung (Das Rennen der Prinzen)<br /><span style="text-decorati
 on: underline;">offen für:</span> Junioren / Damen / Herren / Masters 1+2+3
  = AK Wertung / Tandem-Wertung<br /><br />EBM - Gold = 100 km = 3 Runden a 
 29 km + ca. 12 km Einführung (Das Rennen der Könige)<span style="text-decor
 ation: underline;"><br /></span><div><span style="text-decoration: underlin
 e;">offen für:</span> Damen / Herren / Masters 1+2+3 = AK Wertung</div><div
 > </div><div>...</div><div> </div><div><a title="Die Ausschreibung" href="h
 ttps://www.ebm100.de/?page=ausschreibung&amp;subid=618" target="_blank" rel
 ="noopener noreferrer">Die Ausschreibung</a></div></div></div><p> </p><p> <
 /p><p> </p><p> </p>
CONTACT:https://www.ebm100.de/?page=kontakt
X-EXTRAINFO:bei guten konditionellen und fahrtechnischen Fähigkeiten und trockenen Bedi
 ngungen zu 100% fahrbar, teilweise "ruppig" und anspruchsvoll, insgesamt la
 ndschaftlich attraktiver und eher schneller Rundkurs mit mittlerem Schwieri
 gkeitsgrad (60 % Forstwege, 25 % Asphalt, 15 % Single-Trail)
DTSTAMP:20260424T092924
DTSTART;TZID=Europe/Berlin;VALUE=DATE:20210801
DTEND;TZID=Europe/Berlin;VALUE=DATE:20210802
SEQUENCE:0
TRANSP:OPAQUE
END:VEVENT
END:VCALENDAR