BEGIN:VCALENDAR
VERSION:2.0
PRODID:-//jEvents 2.0 for Joomla//EN
CALSCALE:GREGORIAN
METHOD:PUBLISH
BEGIN:VTIMEZONE
TZID:Europe/Berlin
BEGIN:STANDARD
DTSTART:20201025T020000
RDATE:20210328T030000
TZOFFSETFROM:+0200
TZOFFSETTO:+0100
TZNAME:Europe/Berlin CET
END:STANDARD
BEGIN:STANDARD
DTSTART:20211031T020000
RDATE:20220327T030000
TZOFFSETFROM:+0200
TZOFFSETTO:+0100
TZNAME:Europe/Berlin CET
END:STANDARD
BEGIN:STANDARD
DTSTART:20221030T020000
RDATE:20230326T030000
TZOFFSETFROM:+0200
TZOFFSETTO:+0100
TZNAME:Europe/Berlin CET
END:STANDARD
BEGIN:STANDARD
DTSTART:20231029T020000
RDATE:20240331T030000
TZOFFSETFROM:+0200
TZOFFSETTO:+0100
TZNAME:Europe/Berlin CET
END:STANDARD
BEGIN:STANDARD
DTSTART:20241027T020000
RDATE:20250330T030000
TZOFFSETFROM:+0200
TZOFFSETTO:+0100
TZNAME:Europe/Berlin CET
END:STANDARD
BEGIN:STANDARD
DTSTART:20251026T020000
RDATE:20260329T030000
TZOFFSETFROM:+0200
TZOFFSETTO:+0100
TZNAME:Europe/Berlin CET
END:STANDARD
BEGIN:STANDARD
DTSTART:20261025T020000
RDATE:20270328T030000
TZOFFSETFROM:+0200
TZOFFSETTO:+0100
TZNAME:Europe/Berlin CET
END:STANDARD
BEGIN:STANDARD
DTSTART:20271031T020000
RDATE:20280326T030000
TZOFFSETFROM:+0200
TZOFFSETTO:+0100
TZNAME:Europe/Berlin CET
END:STANDARD
BEGIN:DAYLIGHT
DTSTART:20200730T000000
RDATE:20201025T020000
TZOFFSETFROM:+0100
TZOFFSETTO:+0200
TZNAME:Europe/Berlin CEST
END:DAYLIGHT
BEGIN:DAYLIGHT
DTSTART:20210328T030000
RDATE:20211031T020000
TZOFFSETFROM:+0100
TZOFFSETTO:+0200
TZNAME:Europe/Berlin CEST
END:DAYLIGHT
BEGIN:DAYLIGHT
DTSTART:20220327T030000
RDATE:20221030T020000
TZOFFSETFROM:+0100
TZOFFSETTO:+0200
TZNAME:Europe/Berlin CEST
END:DAYLIGHT
BEGIN:DAYLIGHT
DTSTART:20230326T030000
RDATE:20231029T020000
TZOFFSETFROM:+0100
TZOFFSETTO:+0200
TZNAME:Europe/Berlin CEST
END:DAYLIGHT
BEGIN:DAYLIGHT
DTSTART:20240331T030000
RDATE:20241027T020000
TZOFFSETFROM:+0100
TZOFFSETTO:+0200
TZNAME:Europe/Berlin CEST
END:DAYLIGHT
BEGIN:DAYLIGHT
DTSTART:20250330T030000
RDATE:20251026T020000
TZOFFSETFROM:+0100
TZOFFSETTO:+0200
TZNAME:Europe/Berlin CEST
END:DAYLIGHT
BEGIN:DAYLIGHT
DTSTART:20260329T030000
RDATE:20261025T020000
TZOFFSETFROM:+0100
TZOFFSETTO:+0200
TZNAME:Europe/Berlin CEST
END:DAYLIGHT
BEGIN:DAYLIGHT
DTSTART:20270328T030000
RDATE:20271031T020000
TZOFFSETFROM:+0100
TZOFFSETTO:+0200
TZNAME:Europe/Berlin CEST
END:DAYLIGHT
END:VTIMEZONE
BEGIN:VEVENT
UID:41ed15f2252e9035dba4ca28dc894ca1
CATEGORIES:Bike(r) - Messen
CREATED:20210603T224817
SUMMARY:EBM - 2021 - Kids and Family Day
LOCATION:Festplatz/ Kurort Seiffen
DESCRIPTION:\n\nDER Bikemarathon des Erzgebirges in Seiffen\n\n\n \n31.07.21 - Kids, Yo
 uth &amp; Family Day  9:15 Uhr SCOTT Fahrrad Spartakiade ErzgebirgeDas Betr
 eten der Rennstrecke sowie das Begleiten der Teilnehmer ist verboten und Ve
 rstöße führen zur Disqualifikation des Teilnehmers. \n\n09:15 Uhr – EBM - L
 aufradrennen = 0,4 km  \n offen für: AK 3-4 &gt; Siegerehrung unmittelbar i
 m Anschluß!\n(Knirpse 0 = 1 Runde a 0,4 km) \n\nca. 09:35 Uhr – EBM - Mini 
 = 1,7 km \noffen für: AK 5-6 \n(Knirpse I = 1 Runde a 1,7 km)\nca. 09:50 Uh
 r - EBM - Mini = 3,5 km \n offen für: AK 7-8 \n(Knirpse II = 3,5 km = 2 Run
 den a 1,7 km)\n\nca. 10:10 Uhr – EBM - Mini = 15 km \n offen für:  AK 13-14
  und AK 15-16\n(Schüler  und Jugend = 15 km = 2 Runde a 7,5 km)\n...\nDie A
 usschreibung (https://www.ebm100.de/?page=ausschreibung&amp;subid=618)\n
X-ALT-DESC;FMTTYPE=text/html:<p><br /><br />DER Bikemarathon des Erzgebirges in Seiffen<br /><br /><br /
 > </p><div><strong><span style="text-decoration: underline;">31.07.21 - Kid
 s, Youth &amp; Family Day</span> </strong></div><div><strong> </strong></di
 v><div><strong>9:15 Uhr SCOTT Fahrrad Spartakiade Erzgebirge</strong></div>
 <div><p>Das Betreten der Rennstrecke sowie das Begleiten der Teilnehmer ist
  verboten und Verstöße führen zur Disqualifikation des Teilnehmers. <br /><
 br />09:15 Uhr – EBM - Laufradrennen = 0,4 km  <strong><br /></strong><span
  style="text-decoration: underline;"> offen für:</span> AK 3-4 <em>&gt; Sie
 gerehrung unmittelbar im Anschluß!</em><span style="text-decoration: underl
 ine;"><br /></span>(Knirpse 0 = 1 Runde a 0,4 km) <br /><br />ca. 09:35 Uhr
  – EBM - Mini = 1,7 km <br /><span style="text-decoration: underline;">offe
 n für:</span> AK 5-6 <br />(Knirpse I = 1 Runde a 1,7 km)</p><p>ca. 09:50 U
 hr - EBM - Mini = 3,5 km <span style="text-decoration: underline;"><br /> o
 ffen für:</span> AK 7-8 <br />(Knirpse II = 3,5 km = 2 Runden a 1,7 km)<br 
 /><br />ca. 10:10 Uhr – EBM - Mini = 15 km <br /><span style="text-decorati
 on: underline;"> offen für:</span>  AK 13-14 und AK 15-16<br />(Schüler  un
 d Jugend = 15 km = 2 Runde a 7,5 km)</p><p>...</p><p><a title="Die Ausschre
 ibung" href="https://www.ebm100.de/?page=ausschreibung&amp;subid=618" targe
 t="_blank" rel="noopener noreferrer">Die Ausschreibung</a></p></div>
CONTACT:https://www.ebm100.de/?page=kontakt
X-EXTRAINFO:bei guten konditionellen und fahrtechnischen Fähigkeiten und trockenen Bedi
 ngungen zu 100% fahrbar, teilweise "ruppig" und anspruchsvoll, insgesamt la
 ndschaftlich attraktiver und eher schneller Rundkurs mit mittlerem Schwieri
 gkeitsgrad (60 % Forstwege, 25 % Asphalt, 15 % Single-Trail)
DTSTAMP:20260424T112220
DTSTART;TZID=Europe/Berlin;VALUE=DATE:20210731
DTEND;TZID=Europe/Berlin;VALUE=DATE:20210801
SEQUENCE:0
TRANSP:OPAQUE
END:VEVENT
END:VCALENDAR