BEGIN:VCALENDAR
VERSION:2.0
PRODID:-//jEvents 2.0 for Joomla//EN
CALSCALE:GREGORIAN
METHOD:PUBLISH
BEGIN:VTIMEZONE
TZID:Europe/Berlin
BEGIN:STANDARD
DTSTART:20161030T020000
RDATE:20170326T030000
TZOFFSETFROM:+0200
TZOFFSETTO:+0100
TZNAME:Europe/Berlin CET
END:STANDARD
BEGIN:STANDARD
DTSTART:20171029T020000
RDATE:20180325T030000
TZOFFSETFROM:+0200
TZOFFSETTO:+0100
TZNAME:Europe/Berlin CET
END:STANDARD
BEGIN:STANDARD
DTSTART:20181028T020000
RDATE:20190331T030000
TZOFFSETFROM:+0200
TZOFFSETTO:+0100
TZNAME:Europe/Berlin CET
END:STANDARD
BEGIN:STANDARD
DTSTART:20191027T020000
RDATE:20200329T030000
TZOFFSETFROM:+0200
TZOFFSETTO:+0100
TZNAME:Europe/Berlin CET
END:STANDARD
BEGIN:STANDARD
DTSTART:20201025T020000
RDATE:20210328T030000
TZOFFSETFROM:+0200
TZOFFSETTO:+0100
TZNAME:Europe/Berlin CET
END:STANDARD
BEGIN:STANDARD
DTSTART:20211031T020000
RDATE:20220327T030000
TZOFFSETFROM:+0200
TZOFFSETTO:+0100
TZNAME:Europe/Berlin CET
END:STANDARD
BEGIN:STANDARD
DTSTART:20221030T020000
RDATE:20230326T030000
TZOFFSETFROM:+0200
TZOFFSETTO:+0100
TZNAME:Europe/Berlin CET
END:STANDARD
BEGIN:STANDARD
DTSTART:20231029T020000
RDATE:20240331T030000
TZOFFSETFROM:+0200
TZOFFSETTO:+0100
TZNAME:Europe/Berlin CET
END:STANDARD
BEGIN:STANDARD
DTSTART:20241027T020000
RDATE:20250330T030000
TZOFFSETFROM:+0200
TZOFFSETTO:+0100
TZNAME:Europe/Berlin CET
END:STANDARD
BEGIN:STANDARD
DTSTART:20251026T020000
RDATE:20260329T030000
TZOFFSETFROM:+0200
TZOFFSETTO:+0100
TZNAME:Europe/Berlin CET
END:STANDARD
BEGIN:STANDARD
DTSTART:20261025T020000
RDATE:20270328T030000
TZOFFSETFROM:+0200
TZOFFSETTO:+0100
TZNAME:Europe/Berlin CET
END:STANDARD
BEGIN:STANDARD
DTSTART:20271031T020000
RDATE:20280326T030000
TZOFFSETFROM:+0200
TZOFFSETTO:+0100
TZNAME:Europe/Berlin CET
END:STANDARD
BEGIN:DAYLIGHT
DTSTART:20161002T093000
RDATE:20161030T020000
TZOFFSETFROM:+0100
TZOFFSETTO:+0200
TZNAME:Europe/Berlin CEST
END:DAYLIGHT
BEGIN:DAYLIGHT
DTSTART:20170326T030000
RDATE:20171029T020000
TZOFFSETFROM:+0100
TZOFFSETTO:+0200
TZNAME:Europe/Berlin CEST
END:DAYLIGHT
BEGIN:DAYLIGHT
DTSTART:20180325T030000
RDATE:20181028T020000
TZOFFSETFROM:+0100
TZOFFSETTO:+0200
TZNAME:Europe/Berlin CEST
END:DAYLIGHT
BEGIN:DAYLIGHT
DTSTART:20190331T030000
RDATE:20191027T020000
TZOFFSETFROM:+0100
TZOFFSETTO:+0200
TZNAME:Europe/Berlin CEST
END:DAYLIGHT
BEGIN:DAYLIGHT
DTSTART:20200329T030000
RDATE:20201025T020000
TZOFFSETFROM:+0100
TZOFFSETTO:+0200
TZNAME:Europe/Berlin CEST
END:DAYLIGHT
BEGIN:DAYLIGHT
DTSTART:20210328T030000
RDATE:20211031T020000
TZOFFSETFROM:+0100
TZOFFSETTO:+0200
TZNAME:Europe/Berlin CEST
END:DAYLIGHT
BEGIN:DAYLIGHT
DTSTART:20220327T030000
RDATE:20221030T020000
TZOFFSETFROM:+0100
TZOFFSETTO:+0200
TZNAME:Europe/Berlin CEST
END:DAYLIGHT
BEGIN:DAYLIGHT
DTSTART:20230326T030000
RDATE:20231029T020000
TZOFFSETFROM:+0100
TZOFFSETTO:+0200
TZNAME:Europe/Berlin CEST
END:DAYLIGHT
BEGIN:DAYLIGHT
DTSTART:20240331T030000
RDATE:20241027T020000
TZOFFSETFROM:+0100
TZOFFSETTO:+0200
TZNAME:Europe/Berlin CEST
END:DAYLIGHT
BEGIN:DAYLIGHT
DTSTART:20250330T030000
RDATE:20251026T020000
TZOFFSETFROM:+0100
TZOFFSETTO:+0200
TZNAME:Europe/Berlin CEST
END:DAYLIGHT
BEGIN:DAYLIGHT
DTSTART:20260329T030000
RDATE:20261025T020000
TZOFFSETFROM:+0100
TZOFFSETTO:+0200
TZNAME:Europe/Berlin CEST
END:DAYLIGHT
BEGIN:DAYLIGHT
DTSTART:20270328T030000
RDATE:20271031T020000
TZOFFSETFROM:+0100
TZOFFSETTO:+0200
TZNAME:Europe/Berlin CEST
END:DAYLIGHT
END:VTIMEZONE
BEGIN:VEVENT
UID:e8f59fab012663bc47ddeb3f77daf803
CATEGORIES:Bikemarathons
CREATED:20171028T162030
SUMMARY:Adelsberger Bike Marathon
LOCATION:Start- &amp; Zielbereich: Sporthalle Walter-Janka-Straße/Kleinolbersdorfer 
 Str. in 09127 Chemnitz Adelsberg
DESCRIPTION: 8 km     09:30:00     30.09.2017 18:00     8,00 km  1 x 8 km Runde\n\n20 k
 m     11:00:00     30.09.2017 18:00    20,00 km   1 x 20 km Runde\n\n40 km 
     10:35:00     30.09.2017 18:00     40,00 km  2 x 20 km Runden\n60 km    
  10:00:00     30.09.2017 18:00     60,00 km   3 x 20 km Runden\n\nABM-Staff
 el     10:00:00     30.09.2017 18:00     60,00 km   3 x eine 20 km Runde\n 
 \nStart- &amp; Zielbereich: Sporthalle Walter-Janka-Straße/Kleinolbersdorfe
 r Str. in 09127 Chemnitz Adelsberg\n
X-ALT-DESC;FMTTYPE=text/html:<p> 8 km     09:30:00     30.09.2017 18:00     8,00 km  1 x 8 km Runde<br /
 ><br />20 km     11:00:00     30.09.2017 18:00    20,00 km   1 x 20 km Rund
 e<br /><br />40 km     10:35:00     30.09.2017 18:00     40,00 km  2 x 20 k
 m Runden</p><p>60 km     10:00:00     30.09.2017 18:00     60,00 km   3 x 2
 0 km Runden<br /><br />ABM-Staffel     10:00:00     30.09.2017 18:00     60
 ,00 km   3 x eine 20 km Runde</p><p> </p><p>Start- &amp; Zielbereich: Sport
 halle Walter-Janka-Straße/Kleinolbersdorfer Str. in 09127 Chemnitz Adelsber
 g</p>
CONTACT:SG Adelsberg e.V.   info@Adelsberger-Bike-Marathon.de
X-EXTRAINFO:Die Startplätze sind im Jahr 2017 auf insgesamt 800 Starter begrenzt.\nDie 
 Startplatzbegrenzung teilt sich wie folgt auf:\n8 km:                      
    unbegrenzt\n20 km:                       300 Starter\n40 km:            
            300 Starter\n60 km:                       120 Starter\nStaffel: 
                       80 Staffeln
DTSTAMP:20260419T214558
DTSTART;TZID=Europe/Berlin:20171003T093000
SEQUENCE:0
TRANSP:OPAQUE
END:VEVENT
END:VCALENDAR