BEGIN:VCALENDAR
VERSION:2.0
PRODID:-//jEvents 2.0 for Joomla//EN
CALSCALE:GREGORIAN
METHOD:PUBLISH
BEGIN:VTIMEZONE
TZID:Europe/Berlin
BEGIN:STANDARD
DTSTART:20231029T020000
RDATE:20240331T030000
TZOFFSETFROM:+0200
TZOFFSETTO:+0100
TZNAME:Europe/Berlin CET
END:STANDARD
BEGIN:STANDARD
DTSTART:20241027T020000
RDATE:20250330T030000
TZOFFSETFROM:+0200
TZOFFSETTO:+0100
TZNAME:Europe/Berlin CET
END:STANDARD
BEGIN:STANDARD
DTSTART:20251026T020000
RDATE:20260329T030000
TZOFFSETFROM:+0200
TZOFFSETTO:+0100
TZNAME:Europe/Berlin CET
END:STANDARD
BEGIN:STANDARD
DTSTART:20261025T020000
RDATE:20270328T030000
TZOFFSETFROM:+0200
TZOFFSETTO:+0100
TZNAME:Europe/Berlin CET
END:STANDARD
BEGIN:STANDARD
DTSTART:20271031T020000
RDATE:20280326T030000
TZOFFSETFROM:+0200
TZOFFSETTO:+0100
TZNAME:Europe/Berlin CET
END:STANDARD
BEGIN:DAYLIGHT
DTSTART:20230719T000000
RDATE:20231029T020000
TZOFFSETFROM:+0100
TZOFFSETTO:+0200
TZNAME:Europe/Berlin CEST
END:DAYLIGHT
BEGIN:DAYLIGHT
DTSTART:20240331T030000
RDATE:20241027T020000
TZOFFSETFROM:+0100
TZOFFSETTO:+0200
TZNAME:Europe/Berlin CEST
END:DAYLIGHT
BEGIN:DAYLIGHT
DTSTART:20250330T030000
RDATE:20251026T020000
TZOFFSETFROM:+0100
TZOFFSETTO:+0200
TZNAME:Europe/Berlin CEST
END:DAYLIGHT
BEGIN:DAYLIGHT
DTSTART:20260329T030000
RDATE:20261025T020000
TZOFFSETFROM:+0100
TZOFFSETTO:+0200
TZNAME:Europe/Berlin CEST
END:DAYLIGHT
BEGIN:DAYLIGHT
DTSTART:20270328T030000
RDATE:20271031T020000
TZOFFSETFROM:+0100
TZOFFSETTO:+0200
TZNAME:Europe/Berlin CEST
END:DAYLIGHT
END:VTIMEZONE
BEGIN:VEVENT
UID:8366311558c8bab294deb5a115265e50
CATEGORIES:Bikemarathons
CREATED:20240218T193559
SUMMARY:Dunkelwald Marathon 2024
LOCATION:Breitenbrunn\, TrailCenter
DESCRIPTION:Die Treibjagd im Dunkelwald ist dein viertägige MTB-Etappenrennen im mittle
 ren Erzgebirge ...\n \nDie Etappenorte Breitenbrunn (TrailCenter Rabenberg)
 , Johanngeorgenstadt (Loipenhaus) und Oberwiesenthal (Sparkassen-Skiarena) 
 werden dir alles abverlangen und alles geben\n
X-ALT-DESC;FMTTYPE=text/html:<p>Die Treibjagd im Dunkelwald ist dein viertägige MTB-Etappenrennen im mit
 tleren Erzgebirge ...</p><p> </p><p>Die Etappenorte Breitenbrunn (TrailCent
 er Rabenberg), Johanngeorgenstadt (Loipenhaus) und Oberwiesenthal (Sparkass
 en-Skiarena) werden dir alles abverlangen und alles geben</p>
CONTACT:https://www.mtb-dunkelwald.de/
X-EXTRAINFO:11:00 - 12:30 Uhr Ausgabe Startunterlagen und Nachmeldung (Tagesstart)\n12:
 15 Uhr Start Langstrecke\n12:30 Uhr Start Kurzstrecke\n14:30 Uhr Zeitlimit 
 Rundendurchlauf (Langstrecke)\nCa. 16:45 Uhr Siegerehrung\n17:15 Uhr Zielsc
 hluss
DTSTAMP:20260419T162434
DTSTART;TZID=Europe/Berlin;VALUE=DATE:20240719
DTEND;TZID=Europe/Berlin;VALUE=DATE:20240720
SEQUENCE:0
TRANSP:OPAQUE
END:VEVENT
END:VCALENDAR